BEGIN:VCALENDAR
VERSION:2.0
PRODID:-//Art History Graduate Student Organization   - ECPv6.7.0//NONSGML v1.0//EN
CALSCALE:GREGORIAN
METHOD:PUBLISH
X-WR-CALNAME:Art History Graduate Student Organization  
X-ORIGINAL-URL:https://sites.rutgers.edu/ahgso
X-WR-CALDESC:Events for Art History Graduate Student Organization  
REFRESH-INTERVAL;VALUE=DURATION:PT1H
X-Robots-Tag:noindex
X-PUBLISHED-TTL:PT1H
BEGIN:VTIMEZONE
TZID:UTC
BEGIN:STANDARD
TZOFFSETFROM:+0000
TZOFFSETTO:+0000
TZNAME:UTC
DTSTART:20220101T000000
END:STANDARD
END:VTIMEZONE
BEGIN:VEVENT
DTSTART;TZID=UTC:20221028T170000
DTEND;TZID=UTC:20221028T190000
DTSTAMP:20260423T213545
CREATED:20221020T183122Z
LAST-MODIFIED:20221021T160515Z
UID:903-1666976400-1666983600@sites.rutgers.edu
SUMMARY:AHGSO Halloween Party!
DESCRIPTION:Carve out some time on your calendars because we’re hosting a Halloween party! We’ll be meeting in the Art History Grad Lounge on October 28 from 5-7 pm for some scary good fun! Costumes are welcomed and encouraged and there will be plenty of snacks.
URL:https://sites.rutgers.edu/ahgso/event/ahgso-halloween-party/
LOCATION:Vorhees Hall\, 71 Hamilton\, New Brunswick\, NJ\, 08901\, United States
CATEGORIES:Public Events
ATTACH;FMTTYPE=image/jpeg:https://sites.rutgers.edu/ahgso/wp-content/uploads/sites/634/2022/10/WhatsApp-Image-2022-10-19-at-12.15.10-PM.jpeg
END:VEVENT
END:VCALENDAR