BEGIN:VCALENDAR
VERSION:2.0
PRODID:-//Art History Graduate Student Organization   - ECPv6.7.0//NONSGML v1.0//EN
CALSCALE:GREGORIAN
METHOD:PUBLISH
X-WR-CALNAME:Art History Graduate Student Organization  
X-ORIGINAL-URL:https://sites.rutgers.edu/ahgso
X-WR-CALDESC:Events for Art History Graduate Student Organization  
REFRESH-INTERVAL;VALUE=DURATION:PT1H
X-Robots-Tag:noindex
X-PUBLISHED-TTL:PT1H
BEGIN:VTIMEZONE
TZID:UTC
BEGIN:STANDARD
TZOFFSETFROM:+0000
TZOFFSETTO:+0000
TZNAME:UTC
DTSTART:20220101T000000
END:STANDARD
END:VTIMEZONE
BEGIN:VEVENT
DTSTART;TZID=UTC:20221102T151500
DTEND;TZID=UTC:20221102T163000
DTSTAMP:20260420T232611
CREATED:20221020T182629Z
LAST-MODIFIED:20221021T160454Z
UID:898-1667402100-1667406600@sites.rutgers.edu
SUMMARY:Discussion Session with Dr Huey Copeland
DESCRIPTION:Discussion Session with Dr Huey Copeland\nNovember 2\, 20223:15 – 4:30 PM\nVorhees Hall (Basement)\, Faculty Lounge.\n\n\nPlease join us for a discussion session with guest speaker\, Dr Huey Copeland prior to his lecture at the Zimmerli Museum on November 2. We will circulate reading material a week prior to the meeting. Please RVSP here! \nHuey Copeland’s work interrogates African/Diasporic\, American and European artistic praxis from the late eighteenth century to the present with an emphasis on articulations of blackness in western visual culture. In his interdisciplinary research\, Copeland focuses on the intersections of race and gender\, subject and object\, the aesthetic and its others from a black feminist persptive that reveals the biases and elisions of the discipline. Rather than assume the redemptive power of art\, he aims to push history against the grain in exploring the constitutive relationship between the capture of black life and the production of cultural property in the modern transatlantic world.\n\nIf you have any questions\, please reach out to Julian Wong-Nelson (Art History)\, julian.wong.nelson@rutgers.edu
URL:https://sites.rutgers.edu/ahgso/event/898/
LOCATION:Vorhees Hall\, 71 Hamilton\, New Brunswick\, NJ\, 08901\, United States
CATEGORIES:Public Events
ATTACH;FMTTYPE=image/png:https://sites.rutgers.edu/ahgso/wp-content/uploads/sites/634/2022/10/thumbnail_Copeland-poster.png
END:VEVENT
BEGIN:VEVENT
DTSTART;TZID=UTC:20221102T163000
DTEND;TZID=UTC:20221102T190000
DTSTAMP:20260420T232611
CREATED:20221021T160433Z
LAST-MODIFIED:20221021T161033Z
UID:913-1667406600-1667415600@sites.rutgers.edu
SUMMARY:Annual Sydney Leon Jacobs Lecture: Dr Huey Copeland
DESCRIPTION:You are cordially invited to attend the Annual Sydney Leon Jacobs lecture in American Art on Wednesday\, November 2nd\, 2022 at 4:30pm in the Lower Dodge Gallery of the Zimmerli Art Museum. This year’s lecture features Huey Copeland\, University of Pennsylvania. Dr. Copeland‘s talk is titled\, “In Stereo: Modern Art and the Black Anthological“.\n\nThere will be a reception in the lobby following the talk.
URL:https://sites.rutgers.edu/ahgso/event/annual-sydney-leon-jacobs-lecture-dr-huey-copeland/
LOCATION:Zimmerli Art Museum\, 71 Hamilton St\, New Brunswick\, New Jersey\, 08901\, United States
CATEGORIES:Public Events
ATTACH;FMTTYPE=image/png:https://sites.rutgers.edu/ahgso/wp-content/uploads/sites/634/2022/10/index.png
ORGANIZER;CN="Rutgers University":MAILTO:rich@sese.io
END:VEVENT
END:VCALENDAR