BEGIN:VCALENDAR
VERSION:2.0
PRODID:-//Art History Graduate Student Organization   - ECPv6.7.0//NONSGML v1.0//EN
CALSCALE:GREGORIAN
METHOD:PUBLISH
X-ORIGINAL-URL:https://sites.rutgers.edu/ahgso
X-WR-CALDESC:Events for Art History Graduate Student Organization  
REFRESH-INTERVAL;VALUE=DURATION:PT1H
X-Robots-Tag:noindex
X-PUBLISHED-TTL:PT1H
BEGIN:VTIMEZONE
TZID:UTC
BEGIN:STANDARD
TZOFFSETFROM:+0000
TZOFFSETTO:+0000
TZNAME:UTC
DTSTART:20220101T000000
END:STANDARD
END:VTIMEZONE
BEGIN:VEVENT
DTSTART;TZID=UTC:20221128T110000
DTEND;TZID=UTC:20221128T120000
DTSTAMP:20260423T110509
CREATED:20221021T013913Z
LAST-MODIFIED:20221021T013913Z
UID:908-1669633200-1669636800@sites.rutgers.edu
SUMMARY:AHGSO Meeting
DESCRIPTION:
URL:https://sites.rutgers.edu/ahgso/event/ahgso-meeting-7/
CATEGORIES:GSO Meeting
END:VEVENT
END:VCALENDAR