BEGIN:VCALENDAR
VERSION:2.0
PRODID:-//Art History Graduate Student Organization   - ECPv6.7.0//NONSGML v1.0//EN
CALSCALE:GREGORIAN
METHOD:PUBLISH
X-WR-CALNAME:Art History Graduate Student Organization  
X-ORIGINAL-URL:https://sites.rutgers.edu/ahgso
X-WR-CALDESC:Events for Art History Graduate Student Organization  
REFRESH-INTERVAL;VALUE=DURATION:PT1H
X-Robots-Tag:noindex
X-PUBLISHED-TTL:PT1H
BEGIN:VTIMEZONE
TZID:America/New_York
BEGIN:DAYLIGHT
TZOFFSETFROM:-0500
TZOFFSETTO:-0400
TZNAME:EDT
DTSTART:20230312T070000
END:DAYLIGHT
BEGIN:STANDARD
TZOFFSETFROM:-0400
TZOFFSETTO:-0500
TZNAME:EST
DTSTART:20231105T060000
END:STANDARD
END:VTIMEZONE
BEGIN:VEVENT
DTSTART;TZID=America/New_York:20231011T120000
DTEND;TZID=America/New_York:20231011T130000
DTSTAMP:20260420T161627
CREATED:20230912T195619Z
LAST-MODIFIED:20230912T195619Z
UID:1068-1697025600-1697029200@sites.rutgers.edu
SUMMARY:AHGSO Meeting
DESCRIPTION:AHGSO Meeting \nGraduate Student Lounge\, and over Zoom. Link for meeting provided via Canvas. \nOpen to all interested graduate students.
URL:https://sites.rutgers.edu/ahgso/event/ahgso-meeting-14/
LOCATION:Art History Graduate Student Lounge (VH006F)\, 71 Hamilton Street\, New Brunswick\, NJ\, 08901\, United States
CATEGORIES:GSO Meeting
ORGANIZER;CN="Art History GSO":MAILTO:ahgso.rutgers@gmail.com
END:VEVENT
END:VCALENDAR