BEGIN:VCALENDAR
VERSION:2.0
PRODID:-//Art History Graduate Student Organization   - ECPv6.7.0//NONSGML v1.0//EN
CALSCALE:GREGORIAN
METHOD:PUBLISH
X-WR-CALNAME:Art History Graduate Student Organization  
X-ORIGINAL-URL:https://sites.rutgers.edu/ahgso
X-WR-CALDESC:Events for Art History Graduate Student Organization  
REFRESH-INTERVAL;VALUE=DURATION:PT1H
X-Robots-Tag:noindex
X-PUBLISHED-TTL:PT1H
BEGIN:VTIMEZONE
TZID:America/New_York
BEGIN:DAYLIGHT
TZOFFSETFROM:-0500
TZOFFSETTO:-0400
TZNAME:EDT
DTSTART:20250309T070000
END:DAYLIGHT
BEGIN:STANDARD
TZOFFSETFROM:-0400
TZOFFSETTO:-0500
TZNAME:EST
DTSTART:20251102T060000
END:STANDARD
END:VTIMEZONE
BEGIN:VEVENT
DTSTART;TZID=America/New_York:20250924T120000
DTEND;TZID=America/New_York:20250924T130000
DTSTAMP:20260421T063826
CREATED:20250828T160858Z
LAST-MODIFIED:20250828T160858Z
UID:1245-1758715200-1758718800@sites.rutgers.edu
SUMMARY:Trinidad Rico - CV Polishing Workshop
DESCRIPTION:
URL:https://sites.rutgers.edu/ahgso/event/trinidad-rico-cv-polishing-workshop/
LOCATION:Online
ORGANIZER;CN="Art History GSO":MAILTO:ahgso.rutgers@gmail.com
END:VEVENT
END:VCALENDAR