BEGIN:VCALENDAR
VERSION:2.0
PRODID:-//Art History Graduate Student Organization   - ECPv6.7.0//NONSGML v1.0//EN
CALSCALE:GREGORIAN
METHOD:PUBLISH
X-WR-CALNAME:Art History Graduate Student Organization  
X-ORIGINAL-URL:https://sites.rutgers.edu/ahgso
X-WR-CALDESC:Events for Art History Graduate Student Organization  
REFRESH-INTERVAL;VALUE=DURATION:PT1H
X-Robots-Tag:noindex
X-PUBLISHED-TTL:PT1H
BEGIN:VTIMEZONE
TZID:UTC
BEGIN:STANDARD
TZOFFSETFROM:+0000
TZOFFSETTO:+0000
TZNAME:UTC
DTSTART:20250101T000000
END:STANDARD
END:VTIMEZONE
BEGIN:VEVENT
DTSTART;TZID=UTC:20250930T110000
DTEND;TZID=UTC:20250930T120000
DTSTAMP:20260421T030349
CREATED:20250925T171645Z
LAST-MODIFIED:20250925T171645Z
UID:1276-1759230000-1759233600@sites.rutgers.edu
SUMMARY:Armenian Exhibition Grad Tour
DESCRIPTION:
URL:https://sites.rutgers.edu/ahgso/event/armenian-exhibition-grad-tour/
END:VEVENT
BEGIN:VEVENT
DTSTART;TZID=UTC:20250930T160000
DTEND;TZID=UTC:20250930T180000
DTSTAMP:20260421T030349
CREATED:20250916T192623Z
LAST-MODIFIED:20250916T192623Z
UID:1269-1759248000-1759255200@sites.rutgers.edu
SUMMARY:Developing Room: Dr. Jessica Brier - Typophoto: New Typography and the Reinvention of Photography
DESCRIPTION:
URL:https://sites.rutgers.edu/ahgso/event/developing-room-dr-jessica-brier-typophoto-new-typography-and-the-reinvention-of-photography/
END:VEVENT
END:VCALENDAR