BEGIN:VCALENDAR
VERSION:2.0
PRODID:-//Art History Graduate Student Organization   - ECPv6.7.0//NONSGML v1.0//EN
CALSCALE:GREGORIAN
METHOD:PUBLISH
X-WR-CALNAME:Art History Graduate Student Organization  
X-ORIGINAL-URL:https://sites.rutgers.edu/ahgso
X-WR-CALDESC:Events for Art History Graduate Student Organization  
REFRESH-INTERVAL;VALUE=DURATION:PT1H
X-Robots-Tag:noindex
X-PUBLISHED-TTL:PT1H
BEGIN:VTIMEZONE
TZID:America/New_York
BEGIN:DAYLIGHT
TZOFFSETFROM:-0500
TZOFFSETTO:-0400
TZNAME:EDT
DTSTART:20250309T070000
END:DAYLIGHT
BEGIN:STANDARD
TZOFFSETFROM:-0400
TZOFFSETTO:-0500
TZNAME:EST
DTSTART:20251102T060000
END:STANDARD
END:VTIMEZONE
BEGIN:VEVENT
DTSTART;TZID=America/New_York:20251029T103000
DTEND;TZID=America/New_York:20251029T120000
DTSTAMP:20260423T140616
CREATED:20251022T160439Z
LAST-MODIFIED:20251022T160439Z
UID:1283-1761733800-1761739200@sites.rutgers.edu
SUMMARY:Grant Writing Workshop - Carla Yanni
DESCRIPTION:Please join us for a workshop on Writing for Art History Grants\, led by Professor Carla Yanni. This session will focus on strategies for developing successful grant and fellowship applications\, with practical advice for framing your research clearly and communicating its significance to a broad audience. \nWhether you are preparing to apply for funding this year or simply want to strengthen your future proposals\, this workshop will offer valuable insights into the writing process: from shaping compelling narratives to presenting your ideas with clarity and confidence. \nRSVP here! 
URL:https://sites.rutgers.edu/ahgso/event/grant-writing-workshop-carla-yanni/
END:VEVENT
END:VCALENDAR