BEGIN:VCALENDAR
VERSION:2.0
PRODID:-//Art History Graduate Student Organization   - ECPv6.7.0//NONSGML v1.0//EN
CALSCALE:GREGORIAN
METHOD:PUBLISH
X-WR-CALNAME:Art History Graduate Student Organization  
X-ORIGINAL-URL:https://sites.rutgers.edu/ahgso
X-WR-CALDESC:Events for Art History Graduate Student Organization  
REFRESH-INTERVAL;VALUE=DURATION:PT1H
X-Robots-Tag:noindex
X-PUBLISHED-TTL:PT1H
BEGIN:VTIMEZONE
TZID:America/New_York
BEGIN:DAYLIGHT
TZOFFSETFROM:-0500
TZOFFSETTO:-0400
TZNAME:EDT
DTSTART:20250309T070000
END:DAYLIGHT
BEGIN:STANDARD
TZOFFSETFROM:-0400
TZOFFSETTO:-0500
TZNAME:EST
DTSTART:20251102T060000
END:STANDARD
END:VTIMEZONE
BEGIN:VEVENT
DTSTART;TZID=America/New_York:20251105T120000
DTEND;TZID=America/New_York:20251105T133000
DTSTAMP:20260420T160507
CREATED:20250821T174324Z
LAST-MODIFIED:20250825T152426Z
UID:1206-1762344000-1762349400@sites.rutgers.edu
SUMMARY:Global Medieval Studies. Subashini Kaligotla
DESCRIPTION:Global Medieval Studies. Subashini Kaligotla \n\nOrganized by Prof. Sears
URL:https://sites.rutgers.edu/ahgso/event/global-medieval-studies-subashini-kaligotla/
END:VEVENT
END:VCALENDAR