BEGIN:VCALENDAR
VERSION:2.0
PRODID:-//Art History Graduate Student Organization   - ECPv6.7.0//NONSGML v1.0//EN
CALSCALE:GREGORIAN
METHOD:PUBLISH
X-WR-CALNAME:Art History Graduate Student Organization  
X-ORIGINAL-URL:https://sites.rutgers.edu/ahgso
X-WR-CALDESC:Events for Art History Graduate Student Organization  
REFRESH-INTERVAL;VALUE=DURATION:PT1H
X-Robots-Tag:noindex
X-PUBLISHED-TTL:PT1H
BEGIN:VTIMEZONE
TZID:America/Halifax
BEGIN:DAYLIGHT
TZOFFSETFROM:-0400
TZOFFSETTO:-0300
TZNAME:ADT
DTSTART:20230312T060000
END:DAYLIGHT
BEGIN:STANDARD
TZOFFSETFROM:-0300
TZOFFSETTO:-0400
TZNAME:AST
DTSTART:20231105T050000
END:STANDARD
TZID:America/New_York
BEGIN:DAYLIGHT
TZOFFSETFROM:-0500
TZOFFSETTO:-0400
TZNAME:EDT
DTSTART:20230312T070000
END:DAYLIGHT
BEGIN:STANDARD
TZOFFSETFROM:-0400
TZOFFSETTO:-0500
TZNAME:EST
DTSTART:20231105T060000
END:STANDARD
END:VTIMEZONE
BEGIN:VEVENT
DTSTART;TZID=America/Halifax:20230120T120000
DTEND;TZID=America/Halifax:20230120T130000
DTSTAMP:20260420T220714
CREATED:20230118T222619Z
LAST-MODIFIED:20230120T173706Z
UID:930-1674216000-1674219600@sites.rutgers.edu
SUMMARY:Writing for Art History Grants and Fellowships
DESCRIPTION:The Professional Development Committee would like to invite you to a grant writing workshop with Tamara Sears (Grad Program Director) on January 20 at noon. Writing for grant and fellowship applications is a learned skill and usually does not come easy to many of us. During this workshop\, Dr Sears will cover strategies for developing winning applications that will be useful for short-term grants (think libraries\, archives\, travel grants\, from a week to several months) and long term fellowships like the Kress\, CASVA\, Fulbright\, etc.. (one year\, two year\, three year) Whether you are applying for funding this year\, two years from now\, or several years in the future\, the workshop will be helpful to all of you! It will also help you start thinking about how to frame your research for a broad audience\, how to market yourself as an academic\, and give you possible funding opportunities to consider for the future. This will be a hybrid event. The committee will provide lunch for those of you who would like to attend in person—please email us to let me know if you 1. will be there in person and 2. if you have dietary restrictions so we can plan accordingly. See you all soon! Margo and Emma (emma.osle@rutgers.edu) \nJanuary 20th\, Noon (In the Art History Graduate Student Lounge and on Zoom – Hybrid)
URL:https://sites.rutgers.edu/ahgso/event/writing-for-art-history-grants-and-fellowships/
LOCATION:Vorhees Hall\, 71 Hamilton\, New Brunswick\, NJ\, 08901\, United States
CATEGORIES:Professional Development
ATTACH;FMTTYPE=image/png:https://sites.rutgers.edu/ahgso/wp-content/uploads/sites/634/2023/01/Screen-Shot-2023-01-18-at-4.45.43-PM-Rutgers-AHGSO.png
END:VEVENT
BEGIN:VEVENT
DTSTART;VALUE=DATE:20230122
DTEND;VALUE=DATE:20230123
DTSTAMP:20260420T220714
CREATED:20221128T195855Z
LAST-MODIFIED:20230118T225214Z
UID:925-1674345600-1674431999@sites.rutgers.edu
SUMMARY:[Call for Papers] Submission Deadline: Artefacts of Change: Visions of The Environment and Disruptions
DESCRIPTION:Rutgers University-New Brunswick\nArt History Graduate Student Symposium 2022-23\nArtefacts of Change: Visions of The Environment and Disruptions\nCall for Papers: Artefacts of Change: Visions of The Environment and Disruptions \n13th Annual Art History Graduate Student Symposium \nOrganized by the Rutgers University Art History Graduate Student Organization (AHGSO) \nSubmission Deadline: Sunday\, January 22\, 2023\nSymposium Date: Friday\, April 21\, 2023 \nFor more information\, view the website.
URL:https://sites.rutgers.edu/ahgso/event/call-for-papers-submission-deadline-artefacts-of-change-visions-of-the-environment-and-disruptions/
CATEGORIES:Annual Symposium
END:VEVENT
BEGIN:VEVENT
DTSTART;TZID=America/New_York:20230125T120000
DTEND;TZID=America/New_York:20230125T130000
DTSTAMP:20260420T220714
CREATED:20230122T154519Z
LAST-MODIFIED:20230122T160713Z
UID:951-1674648000-1674651600@sites.rutgers.edu
SUMMARY:AHGSO Meeting
DESCRIPTION:AHGSO Meeting \nGraduate Student Lounge \nOpen to all interested graduate students.
URL:https://sites.rutgers.edu/ahgso/event/ahgso-meeting-9/
LOCATION:Vorhees Hall\, 71 Hamilton\, New Brunswick\, NJ\, 08901\, United States
CATEGORIES:GSO Meeting
ORGANIZER;CN="Art History GSO":MAILTO:ahgso.rutgers@gmail.com
END:VEVENT
END:VCALENDAR