BEGIN:VCALENDAR
VERSION:2.0
PRODID:-//Art History Graduate Student Organization   - ECPv6.7.0//NONSGML v1.0//EN
CALSCALE:GREGORIAN
METHOD:PUBLISH
X-WR-CALNAME:Art History Graduate Student Organization  
X-ORIGINAL-URL:https://sites.rutgers.edu/ahgso
X-WR-CALDESC:Events for Art History Graduate Student Organization  
REFRESH-INTERVAL;VALUE=DURATION:PT1H
X-Robots-Tag:noindex
X-PUBLISHED-TTL:PT1H
BEGIN:VTIMEZONE
TZID:America/New_York
BEGIN:DAYLIGHT
TZOFFSETFROM:-0500
TZOFFSETTO:-0400
TZNAME:EDT
DTSTART:20230312T070000
END:DAYLIGHT
BEGIN:STANDARD
TZOFFSETFROM:-0400
TZOFFSETTO:-0500
TZNAME:EST
DTSTART:20231105T060000
END:STANDARD
TZID:America/Halifax
BEGIN:DAYLIGHT
TZOFFSETFROM:-0400
TZOFFSETTO:-0300
TZNAME:ADT
DTSTART:20230312T060000
END:DAYLIGHT
BEGIN:STANDARD
TZOFFSETFROM:-0300
TZOFFSETTO:-0400
TZNAME:AST
DTSTART:20231105T050000
END:STANDARD
TZID:UTC
BEGIN:STANDARD
TZOFFSETFROM:+0000
TZOFFSETTO:+0000
TZNAME:UTC
DTSTART:20230101T000000
END:STANDARD
END:VTIMEZONE
BEGIN:VEVENT
DTSTART;VALUE=DATE:20230303
DTEND;VALUE=DATE:20230305
DTSTAMP:20260424T191939
CREATED:20230122T160239Z
LAST-MODIFIED:20230122T160547Z
UID:943-1677801600-1677974399@sites.rutgers.edu
SUMMARY:[German Graduate Conference] Die ewige Wiederkehr des Vampyrs / The Eternal Return of the Vampire
DESCRIPTION:Die ewige Wiederkehr des Vampyrs / The Eternal Return of the Vampire\nMarch 3-4\, 2023 \nKeynote Speakers:Dr. Laurence Rickels (The European Graduate School)Dr. Elisabeth Bronfen (University of Zurich & NYU)“Stay here… the Master comes.”– Renfield\, Herzog’s Nosferatu \n  \nPresented by German GSO\, with support from the Art History GSO.
URL:https://sites.rutgers.edu/ahgso/event/german-graduate-conference-die-ewige-wiederkehr-des-vampyrs-the-eternal-return-of-the-vampire/
CATEGORIES:Public Events
ORGANIZER;CN="German GSO":MAILTO:gradstudents@greell.rutgers.edu
END:VEVENT
BEGIN:VEVENT
DTSTART;TZID=America/New_York:20230304T200000
DTEND;TZID=America/New_York:20230304T220000
DTSTAMP:20260424T191939
CREATED:20230206T203502Z
LAST-MODIFIED:20230206T203502Z
UID:971-1677960000-1677967200@sites.rutgers.edu
SUMMARY:Undead\, Undead\, Undead: a Vam-Party!
DESCRIPTION:Bela Lugosi’s dead / \nUndead undead undead \n– Bauhaus\, “Bela Lugosi’s Dead” \n  \nSaturday March 4\, 2023 \n8-10 PM\nVorhees Hall\, Art History Graduate Lounge (basement) \nJoin us for an undead party as the concluding event of the 2023 German Graduate Conference Die ewige Wiederkehr des Vampyrs / The Eternal Return of the Vampire. Wear your best goth or vampire themed outfit and prepare to dance! \nSnacks and drinks will be provided. \nSponsored by the Art History GSO in coordination with the German GSO.
URL:https://sites.rutgers.edu/ahgso/event/undead-undead-undead-a-vam-party/
LOCATION:Vorhees Hall\, 71 Hamilton\, New Brunswick\, NJ\, 08901\, United States
CATEGORIES:Public Events,Social Committee
ATTACH;FMTTYPE=image/png:https://sites.rutgers.edu/ahgso/wp-content/uploads/sites/634/2023/02/Vam-Party-Square-1.png
ORGANIZER;CN="Art History GSO":MAILTO:ahgso.rutgers@gmail.com
END:VEVENT
BEGIN:VEVENT
DTSTART;TZID=America/Halifax:20230324T120000
DTEND;TZID=America/Halifax:20230324T130000
DTSTAMP:20260424T191939
CREATED:20230122T154744Z
LAST-MODIFIED:20230308T192129Z
UID:955-1679659200-1679662800@sites.rutgers.edu
SUMMARY:AHGSO Meeting
DESCRIPTION:AHGSO Meeting \nGraduate Student Lounge\nOpen to all interested graduate students.
URL:https://sites.rutgers.edu/ahgso/event/ahgso-meeting-11/
LOCATION:Vorhees Hall\, 71 Hamilton\, New Brunswick\, NJ\, 08901\, United States
CATEGORIES:GSO Meeting
ORGANIZER;CN="Art History GSO":MAILTO:ahgso.rutgers@gmail.com
END:VEVENT
BEGIN:VEVENT
DTSTART;TZID=America/Halifax:20230324T143000
DTEND;TZID=America/Halifax:20230324T153000
DTSTAMP:20260424T191939
CREATED:20230317T214859Z
LAST-MODIFIED:20230317T214859Z
UID:982-1679668200-1679671800@sites.rutgers.edu
SUMMARY:Professional Development with Dr DeLosSantos
DESCRIPTION:Do you want to begin to think about\, or refine\, your approach to teaching? Do you want to learn some great pedagogical methods to engage your class? This is a great workshop for anyone at any stage of teaching. Whether you are just starting or quite experienced in the classroom\, you will benefit from Jenevieve’s expertise. \nThis is a hybrid event on March 24\, 2:30pm in the Art History Graduate Student Lounge and on Zoom. Please RSVP ASAP to emma.osle@rutgers.edu if you will be attending in person so we can order enough food for everyone. \nFor those of you on Zoom\, the AHGSO is willing to cover up to $15 of your lunch as long as you attend the entire session! \nSee you all soon!\nMargo and Emma\nProfessional Development Committee\, AHGSO
URL:https://sites.rutgers.edu/ahgso/event/professional-development-with-dr-delossantos/
LOCATION:Vorhees Hall\, 71 Hamilton\, New Brunswick\, NJ\, 08901\, United States
CATEGORIES:Professional Development
ATTACH;FMTTYPE=image/jpeg:https://sites.rutgers.edu/ahgso/wp-content/uploads/sites/634/2023/03/WhatsApp-Image-2023-03-14-at-1.28.06-PM.jpeg
ORGANIZER;CN="Art History GSO":MAILTO:ahgso.rutgers@gmail.com
END:VEVENT
BEGIN:VEVENT
DTSTART;TZID=UTC:20230324T170000
DTEND;TZID=UTC:20230324T190000
DTSTAMP:20260424T191939
CREATED:20230308T191924Z
LAST-MODIFIED:20230308T192049Z
UID:975-1679677200-1679684400@sites.rutgers.edu
SUMMARY:Screening of "Shepherds in the Cave"
DESCRIPTION:Mark your calendars and join us for a hybrid screening of Shepherds in the Cave on March 24\, 5-7 pm\, in VH105! You can also join us virtually on Zoom through this link: https://rutgers.zoom.us/j/98646914066?pwd=NHJZWmVVRWlUZ24xTzhyVEVOaWFvdz09 \nEncompassing art history and cultural heritage themes\, the documentary follows an international team of art restorers and archaeologists as they begin work to restore medieval frescoes inside a network of ancient caves in Southern Italy. They face local bureaucratic challenges and systemic neglect of archaeological sites while also encountering a community of shepherds and migrants that have used the caves for centuries\, highlighting a living culture worth preserving. \nTrailer link: https://redmammothmedia.com/shepherdsinthecave
URL:https://sites.rutgers.edu/ahgso/event/screening-of-shepherds-in-the-cave/
LOCATION:Vorhees Hall\, 71 Hamilton\, New Brunswick\, NJ\, 08901\, United States
CATEGORIES:Social Committee
ATTACH;FMTTYPE=image/jpeg:https://sites.rutgers.edu/ahgso/wp-content/uploads/sites/634/2023/03/WhatsApp-Image-2023-03-06-at-7.25.29-AM.jpeg
ORGANIZER;CN="Art History GSO":MAILTO:ahgso.rutgers@gmail.com
END:VEVENT
END:VCALENDAR