BEGIN:VCALENDAR
VERSION:2.0
PRODID:-//Art History Graduate Student Organization   - ECPv6.7.0//NONSGML v1.0//EN
CALSCALE:GREGORIAN
METHOD:PUBLISH
X-WR-CALNAME:Art History Graduate Student Organization  
X-ORIGINAL-URL:https://sites.rutgers.edu/ahgso
X-WR-CALDESC:Events for Art History Graduate Student Organization  
REFRESH-INTERVAL;VALUE=DURATION:PT1H
X-Robots-Tag:noindex
X-PUBLISHED-TTL:PT1H
BEGIN:VTIMEZONE
TZID:America/New_York
BEGIN:DAYLIGHT
TZOFFSETFROM:-0500
TZOFFSETTO:-0400
TZNAME:EDT
DTSTART:20230312T070000
END:DAYLIGHT
BEGIN:STANDARD
TZOFFSETFROM:-0400
TZOFFSETTO:-0500
TZNAME:EST
DTSTART:20231105T060000
END:STANDARD
TZID:America/Halifax
BEGIN:DAYLIGHT
TZOFFSETFROM:-0400
TZOFFSETTO:-0300
TZNAME:ADT
DTSTART:20230312T060000
END:DAYLIGHT
BEGIN:STANDARD
TZOFFSETFROM:-0300
TZOFFSETTO:-0400
TZNAME:AST
DTSTART:20231105T050000
END:STANDARD
END:VTIMEZONE
BEGIN:VEVENT
DTSTART;TZID=America/New_York:20230414T100000
DTEND;TZID=America/New_York:20230414T110000
DTSTAMP:20260424T062346
CREATED:20230324T180018Z
LAST-MODIFIED:20230324T180018Z
UID:989-1681466400-1681470000@sites.rutgers.edu
SUMMARY:Art History Alumnus Conversation with Joëlla van Donkersgoed
DESCRIPTION:Please join the Rutgers Art History Graduate Student Organization for a conversation with our Department’s alumnus\, Joëlla van Donkersgoed\, who graduated with her PhD in Cultural Heritage and Preservation Studies (CHAPS) in 2020. Since leaving Rutgers she has had an adjunct position at the University of Amsterdam teaching a graduate seminar in Museum Studies\, conducted a paid research project at the National Maritime Museum in Amsterdam\, and now is a post-doctoral researcher in Public History at the University of Luxembourg and soon will be leading her own research project. We hope this will help interested students in finding out more about the recent job market scenario and especially\, opportunities in Europe!\n\nThis will be a virtual talk\, to be held on April 14\, 2023\, 10 AM EDT.\nRegister in advance for this meeting.
URL:https://sites.rutgers.edu/ahgso/event/art-history-alumnus-conversation-with-joella-van-donkersgoed/
CATEGORIES:Professional Development
ATTACH;FMTTYPE=image/png:https://sites.rutgers.edu/ahgso/wp-content/uploads/sites/634/2023/03/Joella-Talk.png
END:VEVENT
BEGIN:VEVENT
DTSTART;TZID=America/New_York:20230421T090000
DTEND;TZID=America/New_York:20230421T160000
DTSTAMP:20260424T062346
CREATED:20221128T195945Z
LAST-MODIFIED:20230406T192238Z
UID:927-1682067600-1682092800@sites.rutgers.edu
SUMMARY:[Symposium] Artefacts of Change: Visions of The Environment and Disruptions
DESCRIPTION:Rutgers University-New Brunswick\nArt History Graduate Student Symposium 2022-23\nArtefacts of Change: Visions of The Environment and Disruptions\nPlease join us Friday April 21st for our annual Art History Graduate Student symposium\, “Artefacts of Change: Visions of the Environment and Disruptions!” The symposium is a hybrid event set to take place from 9:00 AM to 4:00 PM in Academic Building 2400 and online. We are glad to welcome Dr. Sugata Ray as our keynote speaker. \nHuman experience of the natural world is integral to artistic production. Amidst the ongoing climate crisis\, art historical discourse has focused on the human-nature relationship with more urgency. Employing ecocritical methodologies and perspectives\, recent scholarship investigates visual vocabularies and material cultures that express historical conceptions of nature and ecology. “Artefacts of Change” aims to foster interdisciplinary conversations on entanglements and tensions between human communities and their lived environments. \nRegister for the Zoom here: bit.ly/ArtefactsofChange \nThis event is funded by the Rutgers Graduate Student Association (GSA).
URL:https://sites.rutgers.edu/ahgso/event/symposium-artefacts-of-change-visions-of-the-environment-and-disruptions/
LOCATION:AB East Room 2400\, 15 Seminary Place\, New Brunswick\, NJ\, 08901
CATEGORIES:Annual Symposium,Public Events
ATTACH;FMTTYPE=image/jpeg:https://sites.rutgers.edu/ahgso/wp-content/uploads/sites/634/2022/11/c56d84f8-b610-48c6-b06f-e1d98fa2d48a5e24e33c-c2fe-400a-a6a6-fbbbcec3e242.jpg
ORGANIZER;CN="Art History GSO":MAILTO:ahgso.rutgers@gmail.com
END:VEVENT
BEGIN:VEVENT
DTSTART;TZID=America/Halifax:20230428T120000
DTEND;TZID=America/Halifax:20230428T130000
DTSTAMP:20260424T062346
CREATED:20230122T154827Z
LAST-MODIFIED:20230324T180148Z
UID:957-1682683200-1682686800@sites.rutgers.edu
SUMMARY:AHGSO Meeting
DESCRIPTION:AHGSO Meeting \nGraduate Student Lounge \nOpen to all interested graduate students.
URL:https://sites.rutgers.edu/ahgso/event/ahgso-meeting-12/
LOCATION:Vorhees Hall\, 71 Hamilton\, New Brunswick\, NJ\, 08901\, United States
CATEGORIES:GSO Meeting
ORGANIZER;CN="Art History GSO":MAILTO:ahgso.rutgers@gmail.com
END:VEVENT
BEGIN:VEVENT
DTSTART;TZID=America/New_York:20230428T130000
DTEND;TZID=America/New_York:20230428T143000
DTSTAMP:20260424T062346
CREATED:20230324T180435Z
LAST-MODIFIED:20230406T191253Z
UID:986-1682686800-1682692200@sites.rutgers.edu
SUMMARY:Professional Development Workshop with Dr Olivia Gruber Florek
DESCRIPTION:The Professional Development Committee and AHGSO are hosting a workshop and talk with Rutgers alumna\, Dr. Olivia Gruber Florek\, on Friday\, April 28th. \nThe workshop will be from 1-2:30pm EST\, and the talk will be from 3:30-5pm EST\, with a reception immediately following the talk. Zoom links for the workshop are attached below. \nThe workshop\, hosted by the Professional Development Committee\, will be about the manuscript process and the road to book publication. Lunch will be included for both in-person and virtual attendees\, so please RSVP by Tuesday\, April 25th to Margo Weitzman (margo.weitzman@rutgers.edu). \nDr Olivia Gruber Florek is an Associate Professor of Art History at Delaware County Community College in Media\, Pennsylvania\, where she also curates an annual exhibition of contemporary art. Her research focuses on celebrity portraiture in nineteenth-century Europe\, and she has received funding from the American Council of Learned Societies\, the Social Science Research Council\, and the Fulbright Commission. In February 2023\, she published The Celebrity Monarch: Empress Elisabeth and the Modern Female Portrait with the University of Delaware Press. She earned her PhD from Rutgers\, the State University of New Jersey in 2012.
URL:https://sites.rutgers.edu/ahgso/event/professional-development-workshop-with-dr-olivia-gruber-florek/
LOCATION:Vorhees Hall\, 71 Hamilton\, New Brunswick\, NJ\, 08901\, United States
CATEGORIES:Professional Development,Public Events,Workshop
ATTACH;FMTTYPE=image/png:https://sites.rutgers.edu/ahgso/wp-content/uploads/sites/634/2023/03/20230428_Florek_Getinvolved-workshop.png
ORGANIZER;CN="Art History GSO":MAILTO:ahgso.rutgers@gmail.com
END:VEVENT
BEGIN:VEVENT
DTSTART;TZID=America/New_York:20230428T153000
DTEND;TZID=America/New_York:20230428T180000
DTSTAMP:20260424T062346
CREATED:20230324T180834Z
LAST-MODIFIED:20230406T191723Z
UID:994-1682695800-1682704800@sites.rutgers.edu
SUMMARY:Book Talk with Dr Olivia Gruber Florek: “Sissi in New York: T. J. Wilcox and the Tragedy of Celebrity”
DESCRIPTION:The Rutgers Art History Graduate Student Organization Professional Development Committee is happy to announce a book talk with Rutgers alumna Dr Olivia Gruber Florek on Friday\, April 28th from 3:30 – 5:00 pm\, with a reception following. Zoom links for the talk are attached. \nDr Gruber Florek’s talk will revolve around her most recent book project\, The Celebrity Monarch: Empress Elisabeth and the Modern Female Portrait\, and how portraits of the famously beautiful Empress Elisabeth of Austria (1837-1898\, also known as “Sissi”) transformed monarchs from divinely-appointed sovereigns to public personalities whose daily lives were consumed by spectators. \nDr Olivia Gruber Florek is an Associate Professor of Art History at Delaware County Community College in Media\, Pennsylvania\, where she also curates an annual exhibition of contemporary art. Her research focuses on celebrity portraiture in nineteenth-century Europe\, and she has received funding from the American Council of Learned Societies\, the Social Science Research Council\, and the Fulbright Commission. In February 2023\, she published The Celebrity Monarch: Empress Elisabeth and the Modern Female Portrait with the University of Delaware Press. She earned her PhD from Rutgers\, the State University of New Jersey in 2012.
URL:https://sites.rutgers.edu/ahgso/event/book-talk-with-dr-olivia-gruber-florek-sissi-in-new-york-t-j-wilcox-and-the-tragedy-of-celebrity/
LOCATION:Scott Hall 206\, 43 College Ave #330\, New Brunswick\, New Jersey\, 08901
CATEGORIES:Professional Development,Public Events
ATTACH;FMTTYPE=image/png:https://sites.rutgers.edu/ahgso/wp-content/uploads/sites/634/2023/03/20230428_Florek_V3-small.png
END:VEVENT
END:VCALENDAR