BEGIN:VCALENDAR
VERSION:2.0
PRODID:-//Art History Graduate Student Organization   - ECPv6.7.0//NONSGML v1.0//EN
CALSCALE:GREGORIAN
METHOD:PUBLISH
X-WR-CALNAME:Art History Graduate Student Organization  
X-ORIGINAL-URL:https://sites.rutgers.edu/ahgso
X-WR-CALDESC:Events for Art History Graduate Student Organization  
REFRESH-INTERVAL;VALUE=DURATION:PT1H
X-Robots-Tag:noindex
X-PUBLISHED-TTL:PT1H
BEGIN:VTIMEZONE
TZID:America/New_York
BEGIN:DAYLIGHT
TZOFFSETFROM:-0500
TZOFFSETTO:-0400
TZNAME:EDT
DTSTART:20250309T070000
END:DAYLIGHT
BEGIN:STANDARD
TZOFFSETFROM:-0400
TZOFFSETTO:-0500
TZNAME:EST
DTSTART:20251102T060000
END:STANDARD
TZID:UTC
BEGIN:STANDARD
TZOFFSETFROM:+0000
TZOFFSETTO:+0000
TZNAME:UTC
DTSTART:20250101T000000
END:STANDARD
END:VTIMEZONE
BEGIN:VEVENT
DTSTART;TZID=America/New_York:20251105T120000
DTEND;TZID=America/New_York:20251105T133000
DTSTAMP:20260421T144222
CREATED:20250821T174324Z
LAST-MODIFIED:20250825T152426Z
UID:1206-1762344000-1762349400@sites.rutgers.edu
SUMMARY:Global Medieval Studies. Subashini Kaligotla
DESCRIPTION:Global Medieval Studies. Subashini Kaligotla \n\nOrganized by Prof. Sears
URL:https://sites.rutgers.edu/ahgso/event/global-medieval-studies-subashini-kaligotla/
END:VEVENT
BEGIN:VEVENT
DTSTART;TZID=America/New_York:20251113T173000
DTEND;TZID=America/New_York:20251113T190000
DTSTAMP:20260421T144222
CREATED:20250826T133434Z
LAST-MODIFIED:20250826T133528Z
UID:1241-1763055000-1763060400@sites.rutgers.edu
SUMMARY:Avinoam Shalem - Distinguished Speaker Series
DESCRIPTION:Please join us for our first DSS talk of the 2025-26 academic year! There will be a Q&A with Dr. Shalem after the lecture.
URL:https://sites.rutgers.edu/ahgso/event/avinoam-shalem-distinguished-speaker-series/
END:VEVENT
BEGIN:VEVENT
DTSTART;TZID=America/New_York:20251119T190000
DTEND;TZID=America/New_York:20251119T200000
DTSTAMP:20260421T144222
CREATED:20250825T150139Z
LAST-MODIFIED:20250825T150139Z
UID:1236-1763578800-1763582400@sites.rutgers.edu
SUMMARY:Mason Gross Visiting Curator
DESCRIPTION:
URL:https://sites.rutgers.edu/ahgso/event/mason-gross-visiting-curator/
END:VEVENT
BEGIN:VEVENT
DTSTART;TZID=UTC:20251120T163000
DTEND;TZID=UTC:20251120T190000
DTSTAMP:20260421T144222
CREATED:20250825T150448Z
LAST-MODIFIED:20250825T150448Z
UID:1238-1763656200-1763665200@sites.rutgers.edu
SUMMARY:Jessica Horton - Sydney Leon Jacobs Lecture in American Art
DESCRIPTION:
URL:https://sites.rutgers.edu/ahgso/event/jessica-horton-sydney-leon-jacobs-lecture-in-american-art/
END:VEVENT
END:VCALENDAR