BEGIN:VCALENDAR
VERSION:2.0
PRODID:-//Barry Loewer - ECPv6.7.0//NONSGML v1.0//EN
CALSCALE:GREGORIAN
METHOD:PUBLISH
X-WR-CALNAME:Barry Loewer
X-ORIGINAL-URL:https://sites.rutgers.edu/barry-loewer
X-WR-CALDESC:Events for Barry Loewer
REFRESH-INTERVAL;VALUE=DURATION:PT1H
X-Robots-Tag:noindex
X-PUBLISHED-TTL:PT1H
BEGIN:VTIMEZONE
TZID:UTC
BEGIN:STANDARD
TZOFFSETFROM:+0000
TZOFFSETTO:+0000
TZNAME:UTC
DTSTART:20190101T000000
END:STANDARD
END:VTIMEZONE
BEGIN:VEVENT
DTSTART;VALUE=DATE:20191024
DTEND;VALUE=DATE:20191027
DTSTAMP:20260422T041809
CREATED:20190612T225035Z
LAST-MODIFIED:20190920T195635Z
UID:361-1571875200-1572134399@sites.rutgers.edu
SUMMARY:Conference on the Philosophy of Probability
DESCRIPTION:What are objective probabilities? What role do they play in physics and other sciences? A three-day workshop investigating these and other issues in the philosophy of probability.
URL:https://sites.rutgers.edu/barry-loewer/event/probability-workshop/
LOCATION:Rutgers Philosophy Department\, 106 Somerset St\, 5th floor\, New Brunswick\, NJ\, 08901
END:VEVENT
END:VCALENDAR