BEGIN:VCALENDAR
VERSION:2.0
PRODID:-//Center for Advanced Human Brain Imaging Research - ECPv6.7.0//NONSGML v1.0//EN
CALSCALE:GREGORIAN
METHOD:PUBLISH
X-WR-CALNAME:Center for Advanced Human Brain Imaging Research
X-ORIGINAL-URL:https://sites.rutgers.edu/cahbir
X-WR-CALDESC:Events for Center for Advanced Human Brain Imaging Research
REFRESH-INTERVAL;VALUE=DURATION:PT1H
X-Robots-Tag:noindex
X-PUBLISHED-TTL:PT1H
BEGIN:VTIMEZONE
TZID:UTC
BEGIN:STANDARD
TZOFFSETFROM:+0000
TZOFFSETTO:+0000
TZNAME:UTC
DTSTART:20230101T000000
END:STANDARD
END:VTIMEZONE
BEGIN:VEVENT
DTSTART;TZID=UTC:20231018T100000
DTEND;TZID=UTC:20231018T113000
DTSTAMP:20260423T213633
CREATED:20231010T115028Z
LAST-MODIFIED:20231010T115028Z
UID:971-1697623200-1697628600@sites.rutgers.edu
SUMMARY:Scanner Operation Training
DESCRIPTION:This session will provide an introduction to basic MRI scanner operation. Those will little or no experience running Siemens MRI scanners are encouraged to attend. \nThis session will cover: \n\nRegistering subjects\nSubject positioning on the table\nProper safety instructions for subjects\nControlling the table\, bore lights\, fan\, and audio intercom\nSelecting a protocol\nExplanation of localizers and how to use them\nRunning a vanilla protocol
URL:https://sites.rutgers.edu/cahbir/event/scanner-operation-training-2/
LOCATION:CAHBIR MRI Waiting Room\, 661 Hoes Lane West\, Piscataway\, 08854\, United States
ORGANIZER;CN="Jeffrey Luci":MAILTO:jeffrey.luci@rutgers.edu
END:VEVENT
END:VCALENDAR