BEGIN:VCALENDAR
VERSION:2.0
PRODID:-//Center for Advanced Human Brain Imaging Research - ECPv6.7.0//NONSGML v1.0//EN
CALSCALE:GREGORIAN
METHOD:PUBLISH
X-WR-CALNAME:Center for Advanced Human Brain Imaging Research
X-ORIGINAL-URL:https://sites.rutgers.edu/cahbir
X-WR-CALDESC:Events for Center for Advanced Human Brain Imaging Research
REFRESH-INTERVAL;VALUE=DURATION:PT1H
X-Robots-Tag:noindex
X-PUBLISHED-TTL:PT1H
BEGIN:VTIMEZONE
TZID:UTC
BEGIN:STANDARD
TZOFFSETFROM:+0000
TZOFFSETTO:+0000
TZNAME:UTC
DTSTART:20240101T000000
END:STANDARD
END:VTIMEZONE
BEGIN:VEVENT
DTSTART;TZID=UTC:20240212T120000
DTEND;TZID=UTC:20240212T130000
DTSTAMP:20260420T062051
CREATED:20240124T171308Z
LAST-MODIFIED:20240212T160642Z
UID:981-1707739200-1707742800@sites.rutgers.edu
SUMMARY:CAHBIR Neuroimaging Methods Seminar and Workshop Series
DESCRIPTION:This session will be delivered by David Zald and will address how CAHBIR handles incidental findings. \n\nWhat is the policy?\nWhy is the policy necessary?\nWhat safeguards are in place?\n\nWe hope you can join in person and that you will make every effort to do so. But if you can’t\, you can join via Zoom. \n\nThe CAHBIR Neuroimaging Seminar and Workshop Series is a biweekly meeting where CAHBIR staff\, users\, and PIs gather to discuss and learn topics that are relevant to the community. They are usually lead by CAHBIR staff\, but when appropriate\, others take the reigns and occasionally\, visiting speakers will deliver a talk. They take place in the newly renovated conference room in the Staged Research Building and are usually structured for one hour\, though sometimes longer presentations will be scheduled with advance notice. \n 
URL:https://sites.rutgers.edu/cahbir/event/cahbir-neuroimaging-methods-seminar-and-workshop-series-20240212/
LOCATION:CAHBIR Conference Room – SRB 127\, 661 Hoes Lane West\, Piscataway\, 08854\, United States
ORGANIZER;CN="Jeffrey Luci":MAILTO:jeffrey.luci@rutgers.edu
END:VEVENT
END:VCALENDAR