BEGIN:VCALENDAR
VERSION:2.0
PRODID:-//Center for Advanced Human Brain Imaging Research - ECPv6.7.0//NONSGML v1.0//EN
CALSCALE:GREGORIAN
METHOD:PUBLISH
X-WR-CALNAME:Center for Advanced Human Brain Imaging Research
X-ORIGINAL-URL:https://sites.rutgers.edu/cahbir
X-WR-CALDESC:Events for Center for Advanced Human Brain Imaging Research
REFRESH-INTERVAL;VALUE=DURATION:PT1H
X-Robots-Tag:noindex
X-PUBLISHED-TTL:PT1H
BEGIN:VTIMEZONE
TZID:UTC
BEGIN:STANDARD
TZOFFSETFROM:+0000
TZOFFSETTO:+0000
TZNAME:UTC
DTSTART:20250101T000000
END:STANDARD
END:VTIMEZONE
BEGIN:VEVENT
DTSTART;TZID=UTC:20250210T120000
DTEND;TZID=UTC:20250210T130000
DTSTAMP:20260420T101016
CREATED:20241119T172418Z
LAST-MODIFIED:20241119T172731Z
UID:1104-1739188800-1739192400@sites.rutgers.edu
SUMMARY:Network Neuroscience Interest Group
DESCRIPTION:Monthly meeting of the Network Neuroscience Interest Group \n  \nIf joining remotely \nhttps://rutgers.zoom.us/j/4554725747?pwd=enVaVXVRUHI5Rk5OQWh2bFlIajhFZz09&omn=92209751720
URL:https://sites.rutgers.edu/cahbir/event/network-neuroscience-interest-group-3/
LOCATION:CAHBIR Conference Room – SRB 127\, 661 Hoes Lane West\, Piscataway\, 08854\, United States
END:VEVENT
END:VCALENDAR