BEGIN:VCALENDAR
VERSION:2.0
PRODID:-//Center for Advanced Human Brain Imaging Research - ECPv6.7.0//NONSGML v1.0//EN
CALSCALE:GREGORIAN
METHOD:PUBLISH
X-WR-CALNAME:Center for Advanced Human Brain Imaging Research
X-ORIGINAL-URL:https://sites.rutgers.edu/cahbir
X-WR-CALDESC:Events for Center for Advanced Human Brain Imaging Research
REFRESH-INTERVAL;VALUE=DURATION:PT1H
X-Robots-Tag:noindex
X-PUBLISHED-TTL:PT1H
BEGIN:VTIMEZONE
TZID:UTC
BEGIN:STANDARD
TZOFFSETFROM:+0000
TZOFFSETTO:+0000
TZNAME:UTC
DTSTART:20250101T000000
END:STANDARD
END:VTIMEZONE
BEGIN:VEVENT
DTSTART;TZID=UTC:20250219T110000
DTEND;TZID=UTC:20250219T120000
DTSTAMP:20260424T003851
CREATED:20250212T143134Z
LAST-MODIFIED:20250212T143156Z
UID:1140-1739962800-1739966400@sites.rutgers.edu
SUMMARY:CAHBIR Office Hour
DESCRIPTION:Monthly office hour to ask any technical/programming questions \nFirst 15 minutes will cover the basics of Amarel and BASH command line
URL:https://sites.rutgers.edu/cahbir/event/cahbir-office-hour/
LOCATION:CAHBIR Conference Room – SRB 127\, 661 Hoes Lane West\, Piscataway\, 08854\, United States
END:VEVENT
END:VCALENDAR