BEGIN:VCALENDAR
VERSION:2.0
PRODID:-//Center for Advanced Human Brain Imaging Research - ECPv6.7.0//NONSGML v1.0//EN
CALSCALE:GREGORIAN
METHOD:PUBLISH
X-WR-CALNAME:Center for Advanced Human Brain Imaging Research
X-ORIGINAL-URL:https://sites.rutgers.edu/cahbir
X-WR-CALDESC:Events for Center for Advanced Human Brain Imaging Research
REFRESH-INTERVAL;VALUE=DURATION:PT1H
X-Robots-Tag:noindex
X-PUBLISHED-TTL:PT1H
BEGIN:VTIMEZONE
TZID:UTC
BEGIN:STANDARD
TZOFFSETFROM:+0000
TZOFFSETTO:+0000
TZNAME:UTC
DTSTART:20250101T000000
END:STANDARD
END:VTIMEZONE
BEGIN:VEVENT
DTSTART;TZID=UTC:20250421T120000
DTEND;TZID=UTC:20250421T130000
DTSTAMP:20260425T224106
CREATED:20250116T224533Z
LAST-MODIFIED:20250320T202754Z
UID:1125-1745236800-1745240400@sites.rutgers.edu
SUMMARY:Linden Parkes - Using the connectome as a basis for dynamical systems theory
DESCRIPTION:Part 3 in our DTI didactic series \n\nSpeaker: Linden Parkes\, Ph.D.\nDate: Monday\, April 21\nTime: 12:00 PM\nDescription: After deriving a connectome from diffusion-weighted MRI\, we can use it for dynamical systems analysis. We will explore an example of these analyses through the lens of Network Control Theory (NCT).
URL:https://sites.rutgers.edu/cahbir/event/dti-didactics-series-part-3/
LOCATION:CAHBIR Conference Room – SRB 127\, 661 Hoes Lane West\, Piscataway\, 08854\, United States
END:VEVENT
END:VCALENDAR