BEGIN:VCALENDAR
VERSION:2.0
PRODID:-//Center for Advanced Human Brain Imaging Research - ECPv6.7.0//NONSGML v1.0//EN
CALSCALE:GREGORIAN
METHOD:PUBLISH
X-WR-CALNAME:Center for Advanced Human Brain Imaging Research
X-ORIGINAL-URL:https://sites.rutgers.edu/cahbir
X-WR-CALDESC:Events for Center for Advanced Human Brain Imaging Research
REFRESH-INTERVAL;VALUE=DURATION:PT1H
X-Robots-Tag:noindex
X-PUBLISHED-TTL:PT1H
BEGIN:VTIMEZONE
TZID:UTC
BEGIN:STANDARD
TZOFFSETFROM:+0000
TZOFFSETTO:+0000
TZNAME:UTC
DTSTART:20260101T000000
END:STANDARD
END:VTIMEZONE
BEGIN:VEVENT
DTSTART;TZID=UTC:20260223T120000
DTEND;TZID=UTC:20260223T130000
DTSTAMP:20260424T003853
CREATED:20260106T180141Z
LAST-MODIFIED:20260218T145232Z
UID:1199-1771848000-1771851600@sites.rutgers.edu
SUMMARY:Neuroscience Seminar Series for Rising Scholars (BHI-CAHBIR Trainee Seminar)
DESCRIPTION:2/23/26 – Emma Schweitzer (Graduate student. PI: Anna Konova)
URL:https://sites.rutgers.edu/cahbir/event/neuroscience-seminar-series-for-rising-scholars-bhi-cahbir-trainee-seminar-2/
END:VEVENT
END:VCALENDAR