BEGIN:VCALENDAR
VERSION:2.0
PRODID:-//Center for Advanced Human Brain Imaging Research - ECPv6.7.0//NONSGML v1.0//EN
CALSCALE:GREGORIAN
METHOD:PUBLISH
X-WR-CALNAME:Center for Advanced Human Brain Imaging Research
X-ORIGINAL-URL:https://sites.rutgers.edu/cahbir
X-WR-CALDESC:Events for Center for Advanced Human Brain Imaging Research
REFRESH-INTERVAL;VALUE=DURATION:PT1H
X-Robots-Tag:noindex
X-PUBLISHED-TTL:PT1H
BEGIN:VTIMEZONE
TZID:UTC
BEGIN:STANDARD
TZOFFSETFROM:+0000
TZOFFSETTO:+0000
TZNAME:UTC
DTSTART:20260101T000000
END:STANDARD
END:VTIMEZONE
BEGIN:VEVENT
DTSTART;TZID=UTC:20260414T100000
DTEND;TZID=UTC:20260414T113000
DTSTAMP:20260421T071530
CREATED:20260311T162725Z
LAST-MODIFIED:20260311T162725Z
UID:1245-1776160800-1776166200@sites.rutgers.edu
SUMMARY:CAHBIR Level 1 MRI Safety Training w/ Carla Novoa (MRI CHIEF TECHNOLOGIST)
DESCRIPTION:
URL:https://sites.rutgers.edu/cahbir/event/cahbir-level-1-mri-safety-training-w-carla-novoa-mri-chief-technologist-3/
LOCATION:CAHBIR MRI Suite- Room 116\, 661 Hoes Lane West\, Staged Research Bldg.\, Piscataway\, NJ\, 08854\, United States
END:VEVENT
END:VCALENDAR