BEGIN:VCALENDAR
VERSION:2.0
PRODID:-//Center for Advanced Human Brain Imaging Research - ECPv6.7.0//NONSGML v1.0//EN
CALSCALE:GREGORIAN
METHOD:PUBLISH
X-WR-CALNAME:Center for Advanced Human Brain Imaging Research
X-ORIGINAL-URL:https://sites.rutgers.edu/cahbir
X-WR-CALDESC:Events for Center for Advanced Human Brain Imaging Research
REFRESH-INTERVAL;VALUE=DURATION:PT1H
X-Robots-Tag:noindex
X-PUBLISHED-TTL:PT1H
BEGIN:VTIMEZONE
TZID:UTC
BEGIN:STANDARD
TZOFFSETFROM:+0000
TZOFFSETTO:+0000
TZNAME:UTC
DTSTART:20260101T000000
END:STANDARD
END:VTIMEZONE
BEGIN:VEVENT
DTSTART;TZID=UTC:20260421T100000
DTEND;TZID=UTC:20260421T103000
DTSTAMP:20260423T180035
CREATED:20260311T162905Z
LAST-MODIFIED:20260311T162905Z
UID:1247-1776765600-1776767400@sites.rutgers.edu
SUMMARY:Level 1 MRI Safety Refresher Session w/ Carla Novoa (MRI CHIEF TECHNOLOGIST)
DESCRIPTION:
URL:https://sites.rutgers.edu/cahbir/event/level-1-mri-safety-refresher-session-w-carla-novoa-mri-chief-technologist-2/
LOCATION:CAHBIR MRI Suite- Room 116\, 661 Hoes Lane West\, Staged Research Bldg.\, Piscataway\, NJ\, 08854\, United States
END:VEVENT
END:VCALENDAR