BEGIN:VCALENDAR
VERSION:2.0
PRODID:-//Center for Advanced Human Brain Imaging Research - ECPv6.7.0//NONSGML v1.0//EN
CALSCALE:GREGORIAN
METHOD:PUBLISH
X-WR-CALNAME:Center for Advanced Human Brain Imaging Research
X-ORIGINAL-URL:https://sites.rutgers.edu/cahbir
X-WR-CALDESC:Events for Center for Advanced Human Brain Imaging Research
REFRESH-INTERVAL;VALUE=DURATION:PT1H
X-Robots-Tag:noindex
X-PUBLISHED-TTL:PT1H
BEGIN:VTIMEZONE
TZID:America/New_York
BEGIN:DAYLIGHT
TZOFFSETFROM:-0500
TZOFFSETTO:-0400
TZNAME:EDT
DTSTART:20260308T070000
END:DAYLIGHT
BEGIN:STANDARD
TZOFFSETFROM:-0400
TZOFFSETTO:-0500
TZNAME:EST
DTSTART:20261101T060000
END:STANDARD
END:VTIMEZONE
BEGIN:VEVENT
DTSTART;VALUE=DATE:20260504
DTEND;VALUE=DATE:20260505
DTSTAMP:20260424T063037
CREATED:20260106T175956Z
LAST-MODIFIED:20260127T161047Z
UID:1197-1777852800-1777939199@sites.rutgers.edu
SUMMARY:Neuroscience Seminar Series for Rising Scholars (BHI-CAHBIR Trainee Seminar)
DESCRIPTION:2/2/26 – Carrisa Cocuzza (postdoc\, PI: Avram Holmes. Talk title: TBA) \n 
URL:https://sites.rutgers.edu/cahbir/event/neuroscience-seminar-series-for-rising-scholars-bhi-cahbir-trainee-seminar/
END:VEVENT
END:VCALENDAR