BEGIN:VCALENDAR
VERSION:2.0
PRODID:-//Center for Advanced Human Brain Imaging Research - ECPv6.7.0//NONSGML v1.0//EN
CALSCALE:GREGORIAN
METHOD:PUBLISH
X-WR-CALNAME:Center for Advanced Human Brain Imaging Research
X-ORIGINAL-URL:https://sites.rutgers.edu/cahbir
X-WR-CALDESC:Events for Center for Advanced Human Brain Imaging Research
REFRESH-INTERVAL;VALUE=DURATION:PT1H
X-Robots-Tag:noindex
X-PUBLISHED-TTL:PT1H
BEGIN:VTIMEZONE
TZID:UTC
BEGIN:STANDARD
TZOFFSETFROM:+0000
TZOFFSETTO:+0000
TZNAME:UTC
DTSTART:20260101T000000
END:STANDARD
END:VTIMEZONE
BEGIN:VEVENT
DTSTART;TZID=UTC:20260727T120000
DTEND;TZID=UTC:20260727T130000
DTSTAMP:20260419T122835
CREATED:20260106T181153Z
LAST-MODIFIED:20260106T181153Z
UID:1213-1785153600-1785157200@sites.rutgers.edu
SUMMARY:Neuroscience Seminar Series for Rising Scholars (BHI-CAHBIR Trainee Seminar)
DESCRIPTION:7/27/26 – Li Xin Lim (Postdoc. PI: Andrew Westbrook. Title: TBD)
URL:https://sites.rutgers.edu/cahbir/event/neuroscience-seminar-series-for-rising-scholars-bhi-cahbir-trainee-seminar-9/
END:VEVENT
END:VCALENDAR