BEGIN:VCALENDAR
VERSION:2.0
PRODID:-//Center for Advanced Human Brain Imaging Research - ECPv6.7.0//NONSGML v1.0//EN
CALSCALE:GREGORIAN
METHOD:PUBLISH
X-WR-CALNAME:Center for Advanced Human Brain Imaging Research
X-ORIGINAL-URL:https://sites.rutgers.edu/cahbir
X-WR-CALDESC:Events for Center for Advanced Human Brain Imaging Research
REFRESH-INTERVAL;VALUE=DURATION:PT1H
X-Robots-Tag:noindex
X-PUBLISHED-TTL:PT1H
BEGIN:VTIMEZONE
TZID:UTC
BEGIN:STANDARD
TZOFFSETFROM:+0000
TZOFFSETTO:+0000
TZNAME:UTC
DTSTART:20240101T000000
END:STANDARD
TZID:America/New_York
BEGIN:DAYLIGHT
TZOFFSETFROM:-0500
TZOFFSETTO:-0400
TZNAME:EDT
DTSTART:20240310T070000
END:DAYLIGHT
BEGIN:STANDARD
TZOFFSETFROM:-0400
TZOFFSETTO:-0500
TZNAME:EST
DTSTART:20241103T060000
END:STANDARD
END:VTIMEZONE
BEGIN:VEVENT
DTSTART;TZID=UTC:20241206T120000
DTEND;TZID=UTC:20241206T130000
DTSTAMP:20260421T054615
CREATED:20241119T173005Z
LAST-MODIFIED:20241119T173005Z
UID:1111-1733486400-1733490000@sites.rutgers.edu
SUMMARY:Amanda Buch\, Ph.D. Talk
DESCRIPTION:Assistant Professor Candidate Amanda Buch Talk  \n\nTowards AI-Guided Precision Neuropsychiatry: Integrating Genomics\, Neuroimaging\, and Behavior \n  \nZoom link to come
URL:https://sites.rutgers.edu/cahbir/event/amanda-buch-ph-d-talk/
END:VEVENT
BEGIN:VEVENT
DTSTART;TZID=America/New_York:20241209T120000
DTEND;TZID=America/New_York:20241209T130000
DTSTAMP:20260421T054615
CREATED:20241118T203208Z
LAST-MODIFIED:20241118T203329Z
UID:1097-1733745600-1733749200@sites.rutgers.edu
SUMMARY:Network Neuroscience Interest Group
DESCRIPTION:The Rutgers Network Neuroscience Interest Group brings together researchers interested in understanding the organization of brain structure and function through the lens of network science.  We view this field broadly\, and encourage participation from researchers working with both preclinical and human data and at different scales of analysis\, including both mesoscale (involving populations of neurons) and macroscale (involving different brain regions). The interest group aims to provide a venue for sharing ideas\, building collaborations\, and potentially to develop a training grant in network neuroscience.  The interest group is sponsored by CAHBIR and the Cognitive And Sensory Neuroscience Focus Area Working Group of the BHI. \nThe group plans to meet the 2nd Monday of every month in the RWJMS Staged Research Building Conference Room (127)\, with the first meeting to be held on December 9th. \nAlthough we would love to see everyone in person\, the following zoom link is also available for those who need to join virtually. \nJoin Zoom Meeting\nhttps://rutgers.zoom.us/j/4554725747?pwd=enVaVXVRUHI5Rk5OQWh2bFlIajhFZz09&omn=92209751720
URL:https://sites.rutgers.edu/cahbir/event/network-neuroscience-interest-group/
LOCATION:CAHBIR Conference Room – SRB 127\, 661 Hoes Lane West\, Piscataway\, 08854\, United States
END:VEVENT
BEGIN:VEVENT
DTSTART;VALUE=DATE:20241216
DTEND;VALUE=DATE:20241217
DTSTAMP:20260421T054615
CREATED:20241101T193213Z
LAST-MODIFIED:20241101T193213Z
UID:1076-1734307200-1734393599@sites.rutgers.edu
SUMMARY:Sergej Grunevski (Graduate Student\, PI: Anna Konova\, Talk Title: TBD. Duration: 45 min) RSVP: 9
DESCRIPTION:
URL:https://sites.rutgers.edu/cahbir/event/sergej-grunevski-graduate-student-pi-anna-konova-talk-title-tbd-duration-45-min-rsvp-9/
END:VEVENT
END:VCALENDAR