BEGIN:VCALENDAR
VERSION:2.0
PRODID:-//Center for Advanced Human Brain Imaging Research - ECPv6.7.0//NONSGML v1.0//EN
CALSCALE:GREGORIAN
METHOD:PUBLISH
X-WR-CALNAME:Center for Advanced Human Brain Imaging Research
X-ORIGINAL-URL:https://sites.rutgers.edu/cahbir
X-WR-CALDESC:Events for Center for Advanced Human Brain Imaging Research
REFRESH-INTERVAL;VALUE=DURATION:PT1H
X-Robots-Tag:noindex
X-PUBLISHED-TTL:PT1H
BEGIN:VTIMEZONE
TZID:America/New_York
BEGIN:DAYLIGHT
TZOFFSETFROM:-0500
TZOFFSETTO:-0400
TZNAME:EDT
DTSTART:20260308T070000
END:DAYLIGHT
BEGIN:STANDARD
TZOFFSETFROM:-0400
TZOFFSETTO:-0500
TZNAME:EST
DTSTART:20261101T060000
END:STANDARD
TZID:UTC
BEGIN:STANDARD
TZOFFSETFROM:+0000
TZOFFSETTO:+0000
TZNAME:UTC
DTSTART:20260101T000000
END:STANDARD
END:VTIMEZONE
BEGIN:VEVENT
DTSTART;VALUE=DATE:20260504
DTEND;VALUE=DATE:20260505
DTSTAMP:20260420T212603
CREATED:20260106T175956Z
LAST-MODIFIED:20260127T161047Z
UID:1197-1777852800-1777939199@sites.rutgers.edu
SUMMARY:Neuroscience Seminar Series for Rising Scholars (BHI-CAHBIR Trainee Seminar)
DESCRIPTION:2/2/26 – Carrisa Cocuzza (postdoc\, PI: Avram Holmes. Talk title: TBA) \n 
URL:https://sites.rutgers.edu/cahbir/event/neuroscience-seminar-series-for-rising-scholars-bhi-cahbir-trainee-seminar/
END:VEVENT
BEGIN:VEVENT
DTSTART;TZID=UTC:20260511T100000
DTEND;TZID=UTC:20260511T160000
DTSTAMP:20260420T212603
CREATED:20260407T154219Z
LAST-MODIFIED:20260407T154219Z
UID:1277-1778493600-1778515200@sites.rutgers.edu
SUMMARY:Rutgers Symposium on the Intersection of Cognitive\, Sensory and Affective Neuroscience
DESCRIPTION:https://brainhealthinstitute.rutgers.edu/2026/01/23/rutgers-symposium-on-the-intersection-of-cognitive-sensory-and-affective-neuroscience/
URL:https://sites.rutgers.edu/cahbir/event/rutgers-symposium-on-the-intersection-of-cognitive-sensory-and-affective-neuroscience/
LOCATION:Masker’s Barn\, The Deserted Village\, 9 Cataract Hollow Rd\, Berkeley Heights\,\, New Jersey\, 07922\, United States
END:VEVENT
BEGIN:VEVENT
DTSTART;TZID=UTC:20260511T100000
DTEND;TZID=UTC:20260511T160000
DTSTAMP:20260420T212603
CREATED:20260407T172719Z
LAST-MODIFIED:20260407T172719Z
UID:1280-1778493600-1778515200@sites.rutgers.edu
SUMMARY:Rutgers Symposium on the Intersection of Cognitive\, Sensory and Affective Neuroscience
DESCRIPTION:The Rutgers Symposium on the Intersection of Cognitive\, Sensory\, and Affective Neuroscience is an interdisciplinary and cross-area meeting of Rutgers neuroscientists. The event aims to foster interactions and build collaborations across PI’s and their labs whose work touches on cognition and sensation with those who study affective processes in health and neuropsychiatric illness. \nThe Rutgers Brain Health Institute is organized into distinct focus area work groups (FAWGs). The symposium represents a joint retreat of the Cognitive and Affective Neuroscience FAWG and the Motivational and Affective Neuroscience FAWG to specifically encourage cross-FAWG interactions and collaborations. It also aims to help facilitate work that crosses between basic science and clinical science with patient populations. \nFaculty\, staff\, and trainees are all invited to attend. \n\n\nDate and Time: May 11th\, 2026\, 10 AM – 4 PM \nVenue: Masker’s Barn\, Deserted Village of Feltville\, Glenside Park\, Union County (Learn more) \nEarly registration is open until April 11\, 2026. \n\n\n\n\nRegister Now
URL:https://sites.rutgers.edu/cahbir/event/rutgers-symposium-on-the-intersection-of-cognitive-sensory-and-affective-neuroscience-2/
LOCATION:Masker’s Barn\, The Deserted Village\, 9 Cataract Hollow Rd\, Berkeley Heights\,\, New Jersey\, 07922\, United States
END:VEVENT
BEGIN:VEVENT
DTSTART;TZID=UTC:20260511T120000
DTEND;TZID=UTC:20260511T130000
DTSTAMP:20260420T212604
CREATED:20260106T180640Z
LAST-MODIFIED:20260106T180640Z
UID:1207-1778500800-1778504400@sites.rutgers.edu
SUMMARY:Neuroscience Seminar Series for Rising Scholars (BHI-CAHBIR Trainee Seminar)
DESCRIPTION:5/11/26** – Sunyoung Park (Postdoc\, PI: Noelle Stiles\, Title: TBD)
URL:https://sites.rutgers.edu/cahbir/event/neuroscience-seminar-series-for-rising-scholars-bhi-cahbir-trainee-seminar-6/
END:VEVENT
BEGIN:VEVENT
DTSTART;TZID=UTC:20260525T120000
DTEND;TZID=UTC:20260525T130000
DTSTAMP:20260420T212604
CREATED:20260106T180822Z
LAST-MODIFIED:20260106T180822Z
UID:1209-1779710400-1779714000@sites.rutgers.edu
SUMMARY:Neuroscience Seminar Series for Rising Scholars (BHI-CAHBIR Trainee Seminar)
DESCRIPTION:5/25/26 – Ugne Ziausyte (Graduate student. PI: Anna Konova. Title: TBD)
URL:https://sites.rutgers.edu/cahbir/event/neuroscience-seminar-series-for-rising-scholars-bhi-cahbir-trainee-seminar-7/
END:VEVENT
END:VCALENDAR