BEGIN:VCALENDAR
VERSION:2.0
PRODID:-//CBE Graduate Student Organization - ECPv6.7.0//NONSGML v1.0//EN
CALSCALE:GREGORIAN
METHOD:PUBLISH
X-WR-CALNAME:CBE Graduate Student Organization
X-ORIGINAL-URL:https://sites.rutgers.edu/cbe-gso
X-WR-CALDESC:Events for CBE Graduate Student Organization
REFRESH-INTERVAL;VALUE=DURATION:PT1H
X-Robots-Tag:noindex
X-PUBLISHED-TTL:PT1H
BEGIN:VTIMEZONE
TZID:UTC
BEGIN:STANDARD
TZOFFSETFROM:+0000
TZOFFSETTO:+0000
TZNAME:UTC
DTSTART:20230101T000000
END:STANDARD
END:VTIMEZONE
BEGIN:VEVENT
DTSTART;TZID=UTC:20231128T113000
DTEND;TZID=UTC:20231128T130000
DTSTAMP:20260424T004726
CREATED:20231120T201100Z
LAST-MODIFIED:20231120T201100Z
UID:769-1701171000-1701176400@sites.rutgers.edu
SUMMARY:Fall Research Forum
DESCRIPTION:
URL:https://sites.rutgers.edu/cbe-gso/event/fall-research-forum/
LOCATION:C233 C-Wing Engineering Building
END:VEVENT
END:VCALENDAR