BEGIN:VCALENDAR
VERSION:2.0
PRODID:-//CBE Graduate Student Organization - ECPv6.7.0//NONSGML v1.0//EN
CALSCALE:GREGORIAN
METHOD:PUBLISH
X-WR-CALNAME:CBE Graduate Student Organization
X-ORIGINAL-URL:https://sites.rutgers.edu/cbe-gso
X-WR-CALDESC:Events for CBE Graduate Student Organization
REFRESH-INTERVAL;VALUE=DURATION:PT1H
X-Robots-Tag:noindex
X-PUBLISHED-TTL:PT1H
BEGIN:VTIMEZONE
TZID:UTC
BEGIN:STANDARD
TZOFFSETFROM:+0000
TZOFFSETTO:+0000
TZNAME:UTC
DTSTART:20240101T000000
END:STANDARD
END:VTIMEZONE
BEGIN:VEVENT
DTSTART;TZID=UTC:20240501T120000
DTEND;TZID=UTC:20240501T150000
DTSTAMP:20260424T113000
CREATED:20240430T183442Z
LAST-MODIFIED:20240430T223722Z
UID:822-1714564800-1714575600@sites.rutgers.edu
SUMMARY:CBE Spring Picnic
DESCRIPTION:In collaboration with AICHE\, OXE\, and the CBE department\, the CBE GSO will be hosting a Spring Picnic on Wednesday\, May 1st\, from 12 – 3 pm! Come join us to celebrate the end of the semester with free food and good times.
URL:https://sites.rutgers.edu/cbe-gso/event/cbe-spring-picnic/
LOCATION:Engineering Building Lawn\, 98 Brett Road\, New Brunswick\, NJ\, 08854\, United States
END:VEVENT
END:VCALENDAR