BEGIN:VCALENDAR
VERSION:2.0
PRODID:-//CBE Graduate Student Organization - ECPv6.7.0//NONSGML v1.0//EN
CALSCALE:GREGORIAN
METHOD:PUBLISH
X-WR-CALNAME:CBE Graduate Student Organization
X-ORIGINAL-URL:https://sites.rutgers.edu/cbe-gso
X-WR-CALDESC:Events for CBE Graduate Student Organization
REFRESH-INTERVAL;VALUE=DURATION:PT1H
X-Robots-Tag:noindex
X-PUBLISHED-TTL:PT1H
BEGIN:VTIMEZONE
TZID:UTC
BEGIN:STANDARD
TZOFFSETFROM:+0000
TZOFFSETTO:+0000
TZNAME:UTC
DTSTART:20250101T000000
END:STANDARD
END:VTIMEZONE
BEGIN:VEVENT
DTSTART;TZID=UTC:20250228T170000
DTEND;TZID=UTC:20250228T190000
DTSTAMP:20260420T174523
CREATED:20250211T194641Z
LAST-MODIFIED:20250218T143602Z
UID:890-1740762000-1740769200@sites.rutgers.edu
SUMMARY:2025 Election Kickoff Bingo
DESCRIPTION:The CBE-GSO will be hosting a Bingo Night to help students take a break from the stresses of academic life\, by providing a Bingo game event with giveaways and light snacks and soda. \n  \nLight Refreshments will be provided during the event. All are welcome to attend.  \n\nFebruary 28th\, 2024: School of Engineering Building – C Wing\, \nRoom 115\, 5:00 – 7:00 pm EST \n 
URL:https://sites.rutgers.edu/cbe-gso/event/election-kickoff-bingo/
END:VEVENT
END:VCALENDAR