BEGIN:VCALENDAR
VERSION:2.0
PRODID:-//CBE Graduate Student Organization - ECPv6.7.0//NONSGML v1.0//EN
CALSCALE:GREGORIAN
METHOD:PUBLISH
X-WR-CALNAME:CBE Graduate Student Organization
X-ORIGINAL-URL:https://sites.rutgers.edu/cbe-gso
X-WR-CALDESC:Events for CBE Graduate Student Organization
REFRESH-INTERVAL;VALUE=DURATION:PT1H
X-Robots-Tag:noindex
X-PUBLISHED-TTL:PT1H
BEGIN:VTIMEZONE
TZID:UTC
BEGIN:STANDARD
TZOFFSETFROM:+0000
TZOFFSETTO:+0000
TZNAME:UTC
DTSTART:20250101T000000
END:STANDARD
END:VTIMEZONE
BEGIN:VEVENT
DTSTART;TZID=UTC:20250507T120000
DTEND;TZID=UTC:20250507T150000
DTSTAMP:20260420T193213
CREATED:20250506T004408Z
LAST-MODIFIED:20250506T174405Z
UID:900-1746619200-1746630000@sites.rutgers.edu
SUMMARY:CBE Spring Picnic
DESCRIPTION:Hello\, All!\nThe CBE GSO – in collaboration with AICHE and OXE – welcomes everyone to attend the annual CBE Picnic! There will be lots of games and activities\, such as rock painting\, kickball\, tug of war\, water balloon toss\, and even a BOUNCY HOUSE! Food and refreshments will be available. \nThe event is on Wednesday\, 05/07/2025\, from 12:00 noon to 3:00 PM\, on the lawn in front of the C-Wing of the Engineering Building.\nWe hope to see you all there!
URL:https://sites.rutgers.edu/cbe-gso/event/900/
LOCATION:Engineering Building Lawn\, 98 Brett Road\, New Brunswick\, NJ\, 08854\, United States
END:VEVENT
END:VCALENDAR