BEGIN:VCALENDAR
VERSION:2.0
PRODID:-//CrEER - ECPv6.7.0//NONSGML v1.0//EN
CALSCALE:GREGORIAN
METHOD:PUBLISH
X-WR-CALNAME:CrEER
X-ORIGINAL-URL:https://sites.rutgers.edu/creer
X-WR-CALDESC:Events for CrEER
REFRESH-INTERVAL;VALUE=DURATION:PT1H
X-Robots-Tag:noindex
X-PUBLISHED-TTL:PT1H
BEGIN:VTIMEZONE
TZID:UTC
BEGIN:STANDARD
TZOFFSETFROM:+0000
TZOFFSETTO:+0000
TZNAME:UTC
DTSTART:20240101T000000
END:STANDARD
END:VTIMEZONE
BEGIN:VEVENT
DTSTART;TZID=UTC:20241108T110000
DTEND;TZID=UTC:20241108T120000
DTSTAMP:20260420T232456
CREATED:20241011T221124Z
LAST-MODIFIED:20241022T220730Z
UID:520-1731063600-1731067200@sites.rutgers.edu
SUMMARY:Rethinking Language and Culture in Community-Based Work and Interpreter-Mediated Research - Dr. Hsieh
DESCRIPTION:
URL:https://sites.rutgers.edu/creer/event/dr-elaine-hsieh/
CATEGORIES:Public Events,Workshop
ATTACH;FMTTYPE=image/jpeg:https://sites.rutgers.edu/creer/wp-content/uploads/sites/1304/2024/10/Elaine-Hsieh-2.jpg
END:VEVENT
END:VCALENDAR