BEGIN:VCALENDAR
VERSION:2.0
PRODID:-//CrEER - ECPv6.7.0//NONSGML v1.0//EN
CALSCALE:GREGORIAN
METHOD:PUBLISH
X-WR-CALNAME:CrEER
X-ORIGINAL-URL:https://sites.rutgers.edu/creer
X-WR-CALDESC:Events for CrEER
REFRESH-INTERVAL;VALUE=DURATION:PT1H
X-Robots-Tag:noindex
X-PUBLISHED-TTL:PT1H
BEGIN:VTIMEZONE
TZID:UTC
BEGIN:STANDARD
TZOFFSETFROM:+0000
TZOFFSETTO:+0000
TZNAME:UTC
DTSTART:20260101T000000
END:STANDARD
END:VTIMEZONE
BEGIN:VEVENT
DTSTART;VALUE=DATE:20260522
DTEND;VALUE=DATE:20260523
DTSTAMP:20260424T064054
CREATED:20260310T193525Z
LAST-MODIFIED:20260310T193525Z
UID:670-1779408000-1779494399@sites.rutgers.edu
SUMMARY:Applications Open for MARS 2026
DESCRIPTION:Expand Your Research Impact: Apply for Multilingual Methods Training \n\n\nNow in its 5th year\, the Short Course on Multilingual Approaches to Research Studies helps prepare health researchers to recruit and engage children\, youth\, and families who prefer a language other than English.  Hosted on June 1-3\, 2026 at Children’s Hospital of Philadelphia\, course programming includes dynamic lectures from expert faculty as well as interactive sessions comprising case studies\, small group work\, workshops\, and consultations. New for 2026: A virtual attendance track for those unable to travel to Philadelphia. Applications are accepted on a rolling basis through May 22 and scholarships are available. Apply today at https://redcap.link/apply_2026MARS
URL:https://sites.rutgers.edu/creer/event/applications-open-for-mars-2026/
CATEGORIES:Public Events
END:VEVENT
END:VCALENDAR