BEGIN:VCALENDAR
VERSION:2.0
PRODID:-//Network for the Study of Archaic and Classical Greek Song - ECPv6.7.0//NONSGML v1.0//EN
CALSCALE:GREGORIAN
METHOD:PUBLISH
X-WR-CALNAME:Network for the Study of Archaic and Classical Greek Song
X-ORIGINAL-URL:https://sites.rutgers.edu/greeksong
X-WR-CALDESC:Events for Network for the Study of Archaic and Classical Greek Song
REFRESH-INTERVAL;VALUE=DURATION:PT1H
X-Robots-Tag:noindex
X-PUBLISHED-TTL:PT1H
BEGIN:VTIMEZONE
TZID:UTC
BEGIN:STANDARD
TZOFFSETFROM:+0000
TZOFFSETTO:+0000
TZNAME:UTC
DTSTART:20240101T000000
END:STANDARD
END:VTIMEZONE
BEGIN:VEVENT
DTSTART;TZID=UTC:20240902T080000
DTEND;TZID=UTC:20240902T170000
DTSTAMP:20260424T084312
CREATED:20240902T002737Z
LAST-MODIFIED:20240902T002737Z
UID:712-1725264000-1725296400@sites.rutgers.edu
SUMMARY:2025 Network Conference in Naples\, Italy
DESCRIPTION:The next open conference of the Network will be held in Naples\, Italy at the University of Naples Federico II\, June 24-26\, 2025. The theme of the conference is “Female voices in a public context: authorial articulation and mimetic representation in ancient Greek literature.” The call for papers\, with more information about the event\, can be found here.
URL:https://sites.rutgers.edu/greeksong/event/2025-network-conference-in-naples-italy/
END:VEVENT
END:VCALENDAR