BEGIN:VCALENDAR
VERSION:2.0
PRODID:-//Integrated Transporter Elucidation Center - ECPv6.7.0//NONSGML v1.0//EN
CALSCALE:GREGORIAN
METHOD:PUBLISH
X-ORIGINAL-URL:https://sites.rutgers.edu/intec
X-WR-CALDESC:Events for Integrated Transporter Elucidation Center
REFRESH-INTERVAL;VALUE=DURATION:PT1H
X-Robots-Tag:noindex
X-PUBLISHED-TTL:PT1H
BEGIN:VTIMEZONE
TZID:UTC
BEGIN:STANDARD
TZOFFSETFROM:+0000
TZOFFSETTO:+0000
TZNAME:UTC
DTSTART:20240101T000000
END:STANDARD
END:VTIMEZONE
BEGIN:VEVENT
DTSTART;TZID=UTC:20241003T090000
DTEND;TZID=UTC:20241003T140000
DTSTAMP:20260424T220057
CREATED:20240709T155232Z
LAST-MODIFIED:20241002T172007Z
UID:642-1727946000-1727964000@sites.rutgers.edu
SUMMARY:Annual InTEC Meeting
DESCRIPTION:Come learn about the latest scientific discoveries by InTEC. This symposium will include presentations from each of the InTEC sites and is open to the public either in-person (Piscataway\, NJ) or via Zoom. \n9:00-9:20 AM        Welcome and Center Overview \n9:20-10:00 AM    In Vitro and Human Studies with Birth Cohorts \n10:00-10:40 AM   Targeted Proteomics and Extracellular Vesicles \n11:00-11:40 AM   Cheminformatics and Machine Learning \n11:40-12:30 PM   Placenta-on-a-Chip Microphysiological Systems \n12:30-2:00 PM       Lunch and Poster Session \nHeld at Rutgers University Busch Campus (Piscataway\, NJ) \nAll times are EST \nRegister here: https://form.jotform.com/242344702376051 \nAbstracts here: InTEC_Abstract_Booklet
URL:https://sites.rutgers.edu/intec/event/annual-intec-meeting/
LOCATION:EOHSI\, 170 Frelinghuysen Rd\, Piscataway\, NJ\, 08854\, United States
ORGANIZER;CN="Rutgers University":MAILTO:rich@sese.io
END:VEVENT
END:VCALENDAR