BEGIN:VCALENDAR
VERSION:2.0
PRODID:-//Integrated Transporter Elucidation Center - ECPv6.7.0//NONSGML v1.0//EN
CALSCALE:GREGORIAN
METHOD:PUBLISH
X-ORIGINAL-URL:https://sites.rutgers.edu/intec
X-WR-CALDESC:Events for Integrated Transporter Elucidation Center
REFRESH-INTERVAL;VALUE=DURATION:PT1H
X-Robots-Tag:noindex
X-PUBLISHED-TTL:PT1H
BEGIN:VTIMEZONE
TZID:UTC
BEGIN:STANDARD
TZOFFSETFROM:+0000
TZOFFSETTO:+0000
TZNAME:UTC
DTSTART:20240101T000000
END:STANDARD
END:VTIMEZONE
BEGIN:VEVENT
DTSTART;TZID=UTC:20241025T083000
DTEND;TZID=UTC:20241025T100000
DTSTAMP:20260422T101154
CREATED:20240917T171523Z
LAST-MODIFIED:20240917T171523Z
UID:660-1729845000-1729850400@sites.rutgers.edu
SUMMARY:Biomedical Engineering Society Annual Meeting
DESCRIPTION:Dr. Fattahi will present “A Bioengineered Model of Human Placental Exposure to Heavy Metals During Pregnancy”.  \nPresenting Author:  Pouria Fattahi – Postdoc\, University of Pennsylvania\nCo-Author:  Mousa Younesi – University of Pennsylvania\nCo-Author:  Won Dong Lee – Princeton University\nCo-Author:  Joshua D. Rabinowitz – Princeton University\nCo-Author:  Lauren M. Aleksunes\, PharmD\, PhD\, DABT (she/her/hers) – Professor\, Rutgers University\nPrimary Investigator:  Dan Dongeun Huh – Professor\, University of Pennsylvania
URL:https://sites.rutgers.edu/intec/event/biomedical-engineering-society-annual-meeting/
LOCATION:Baltimore Convention Center
END:VEVENT
END:VCALENDAR