BEGIN:VCALENDAR
VERSION:2.0
PRODID:-//Islam, the Humanities and the Human - ECPv6.7.0//NONSGML v1.0//EN
CALSCALE:GREGORIAN
METHOD:PUBLISH
X-WR-CALNAME:Islam, the Humanities and the Human
X-ORIGINAL-URL:https://sites.rutgers.edu/islam-humanities
X-WR-CALDESC:Events for Islam, the Humanities and the Human
REFRESH-INTERVAL;VALUE=DURATION:PT1H
X-Robots-Tag:noindex
X-PUBLISHED-TTL:PT1H
BEGIN:VTIMEZONE
TZID:UTC
BEGIN:STANDARD
TZOFFSETFROM:+0000
TZOFFSETTO:+0000
TZNAME:UTC
DTSTART:20230101T000000
END:STANDARD
END:VTIMEZONE
BEGIN:VEVENT
DTSTART;TZID=UTC:20230424T113000
DTEND;TZID=UTC:20230424T123000
DTSTAMP:20260420T124514
CREATED:20230419T032700Z
LAST-MODIFIED:20230419T032700Z
UID:839-1682335800-1682339400@sites.rutgers.edu
SUMMARY:Exploring Urban and Youth Politics in Amman\, Jordan through Graffiti
DESCRIPTION:
URL:https://sites.rutgers.edu/islam-humanities/event/exploring-urban-and-youth-politics-in-amman-jordan-through-graffiti/
LOCATION:Hill Hall 216
END:VEVENT
END:VCALENDAR