BEGIN:VCALENDAR
VERSION:2.0
PRODID:-//Islam, the Humanities and the Human - ECPv6.7.0//NONSGML v1.0//EN
CALSCALE:GREGORIAN
METHOD:PUBLISH
X-WR-CALNAME:Islam, the Humanities and the Human
X-ORIGINAL-URL:https://sites.rutgers.edu/islam-humanities
X-WR-CALDESC:Events for Islam, the Humanities and the Human
REFRESH-INTERVAL;VALUE=DURATION:PT1H
X-Robots-Tag:noindex
X-PUBLISHED-TTL:PT1H
BEGIN:VTIMEZONE
TZID:UTC
BEGIN:STANDARD
TZOFFSETFROM:+0000
TZOFFSETTO:+0000
TZNAME:UTC
DTSTART:20260101T000000
END:STANDARD
END:VTIMEZONE
BEGIN:VEVENT
DTSTART;TZID=UTC:20260416T100000
DTEND;TZID=UTC:20260416T113000
DTSTAMP:20260420T194953
CREATED:20260304T014540Z
LAST-MODIFIED:20260304T014540Z
UID:1127-1776333600-1776339000@sites.rutgers.edu
SUMMARY:Friendship and Control: Impersonal Feminism in the Mirrors of Monir Shahroudy Farmanfarmaian
DESCRIPTION:In the late 1950s\, Monir Shahroudy Farmanfarmaian returned to Iran after more than a decade in the United States\, where she studied at Parsons School of Design and worked as an artist and layout designer at a now-defunct luxury department store\, Bonwit Teller. Soon after her return\, she joined the Point Four Program\, launched by the US president Harry S. Truman to provide technical and economic assistance to developing countries. There\, she helped traditional craftspeople in rapidly depopulating rural and tribal regions find new markets in Tehran and abroad—effectively acting as an agent of capitalism. Her engagement with Islamic craft also reshaped her artistic practice. Beginning in the early 1970s\, she incorporated mirror mosaic—a decorative element of Iranian palatial and religious architecture since the seventeenth century—into modern sculptures\, executed with the assistance of artisans. Her collaborations with artisans can be read as a form of wage labor that reduces the artisan to a manual extension of the artist’s vision. Yet how did these male artisans understand the gendered and classed dynamics of their work with her? And what do the mirror works themselves reveal about the tension between freedom and subjugation in her practice? This talk argues that Shahroudy Farmanfarmaian’s mirror works operate with a notion of power in which love and authority collapse into a single relational act. \nHamed Yousefi is an art historian focusing on the intersection of Islam and modern art. His work draws on Islamic theories of the image to rethink modernism beyond Eurocentric assumptions that conflate the modern with the secular. He is currently a Klarman Postdoctoral Fellow at Cornell University\, and the incoming Assistant Professor of Islamic Art History at Oberlin College. Yousefi received his PhD from Northwestern University in 2025. \n 
URL:https://sites.rutgers.edu/islam-humanities/event/friendship-and-control-impersonal-feminism-in-the-mirrors-of-monir-shahroudy-farmanfarmaian/
LOCATION:Warren 312
END:VEVENT
END:VCALENDAR