BEGIN:VCALENDAR
VERSION:2.0
PRODID:-//Northern New Jersey MAT Center of Excellence - ECPv6.7.0//NONSGML v1.0//EN
CALSCALE:GREGORIAN
METHOD:PUBLISH
X-ORIGINAL-URL:https://sites.rutgers.edu/mat-coe
X-WR-CALDESC:Events for Northern New Jersey MAT Center of Excellence
REFRESH-INTERVAL;VALUE=DURATION:PT1H
X-Robots-Tag:noindex
X-PUBLISHED-TTL:PT1H
BEGIN:VTIMEZONE
TZID:UTC
BEGIN:STANDARD
TZOFFSETFROM:+0000
TZOFFSETTO:+0000
TZNAME:UTC
DTSTART:20200101T000000
END:STANDARD
END:VTIMEZONE
BEGIN:VEVENT
DTSTART;TZID=UTC:20200904T120000
DTEND;TZID=UTC:20200904T130000
DTSTAMP:20260424T121703
CREATED:20200908T004424Z
LAST-MODIFIED:20200908T004831Z
UID:858-1599220800-1599224400@sites.rutgers.edu
SUMMARY:Screening and Diagnosis of Opioid Use Disorder
DESCRIPTION:An interactive didactic on Screening and Diagnosis of Opioid use Disorder and a case presentation! Free CEs are provided.
URL:https://sites.rutgers.edu/mat-coe/event/screening-and-diagnosis-of-opioid-use-disorder/
LOCATION:Virtual
END:VEVENT
END:VCALENDAR