BEGIN:VCALENDAR
VERSION:2.0
PRODID:-//Northern New Jersey MAT Center of Excellence - ECPv6.7.0//NONSGML v1.0//EN
CALSCALE:GREGORIAN
METHOD:PUBLISH
X-ORIGINAL-URL:https://sites.rutgers.edu/mat-coe
X-WR-CALDESC:Events for Northern New Jersey MAT Center of Excellence
REFRESH-INTERVAL;VALUE=DURATION:PT1H
X-Robots-Tag:noindex
X-PUBLISHED-TTL:PT1H
BEGIN:VTIMEZONE
TZID:UTC
BEGIN:STANDARD
TZOFFSETFROM:+0000
TZOFFSETTO:+0000
TZNAME:UTC
DTSTART:20210101T000000
END:STANDARD
END:VTIMEZONE
BEGIN:VEVENT
DTSTART;TZID=UTC:20210414T120000
DTEND;TZID=UTC:20210414T130000
DTSTAMP:20260424T205657
CREATED:20210402T181156Z
LAST-MODIFIED:20210409T200536Z
UID:1364-1618401600-1618405200@sites.rutgers.edu
SUMMARY:MAT Lunch Hour: Alcohol Use Disorder Treatment
DESCRIPTION:Open forum featuring guest speakers to discuss medication-assisted treatment (MAT) issues and an opportunity to network!
URL:https://sites.rutgers.edu/mat-coe/event/mat-lunch-hour-clinical-topic/
LOCATION:Virtual
END:VEVENT
END:VCALENDAR