BEGIN:VCALENDAR
VERSION:2.0
PRODID:-//Northern New Jersey MAT Center of Excellence - ECPv6.7.0//NONSGML v1.0//EN
CALSCALE:GREGORIAN
METHOD:PUBLISH
X-ORIGINAL-URL:https://sites.rutgers.edu/mat-coe
X-WR-CALDESC:Events for Northern New Jersey MAT Center of Excellence
REFRESH-INTERVAL;VALUE=DURATION:PT1H
X-Robots-Tag:noindex
X-PUBLISHED-TTL:PT1H
BEGIN:VTIMEZONE
TZID:UTC
BEGIN:STANDARD
TZOFFSETFROM:+0000
TZOFFSETTO:+0000
TZNAME:UTC
DTSTART:20210101T000000
END:STANDARD
END:VTIMEZONE
BEGIN:VEVENT
DTSTART;TZID=UTC:20210428T120000
DTEND;TZID=UTC:20210428T130000
DTSTAMP:20260424T205703
CREATED:20210426T183211Z
LAST-MODIFIED:20210426T183211Z
UID:1394-1619611200-1619614800@sites.rutgers.edu
SUMMARY:MAT Lunch Hour: Hepatitis Management in SUD
DESCRIPTION:MAT Lunch Hours are open forums featuring guest speakers to discuss medication-assisted treatment (MAT) issues and an opportunity to network! Dr. Amesika Nyaku\, an infectious disease physician and co-director of the Northern NJ MAT Center of Excellence\, will be talking about hepatitis management in patients with co-morbid substance use disorders. This is an area of focus for the goal of reducing the harmful consequences of those who use drugs. We hope you are able to attend!
URL:https://sites.rutgers.edu/mat-coe/event/mat-lunch-hour-hepatitis-management-in-sud/
LOCATION:Virtual
END:VEVENT
END:VCALENDAR