BEGIN:VCALENDAR
VERSION:2.0
PRODID:-//Northern New Jersey MAT Center of Excellence - ECPv6.7.0//NONSGML v1.0//EN
CALSCALE:GREGORIAN
METHOD:PUBLISH
X-WR-CALNAME:Northern New Jersey MAT Center of Excellence
X-ORIGINAL-URL:https://sites.rutgers.edu/mat-coe
X-WR-CALDESC:Events for Northern New Jersey MAT Center of Excellence
REFRESH-INTERVAL;VALUE=DURATION:PT1H
X-Robots-Tag:noindex
X-PUBLISHED-TTL:PT1H
BEGIN:VTIMEZONE
TZID:UTC
BEGIN:STANDARD
TZOFFSETFROM:+0000
TZOFFSETTO:+0000
TZNAME:UTC
DTSTART:20210101T000000
END:STANDARD
END:VTIMEZONE
BEGIN:VEVENT
DTSTART;TZID=UTC:20210614T120000
DTEND;TZID=UTC:20210614T130000
DTSTAMP:20260423T221339
CREATED:20210609T144159Z
LAST-MODIFIED:20210609T144159Z
UID:1447-1623672000-1623675600@sites.rutgers.edu
SUMMARY:1-Hour CE Event: Best Practices for Drug Screening for Individuals with Substance Use Disorder
DESCRIPTION:This is a free one-hour CME event sponsored by both the DHS and DMHAS Central Office CME Committee on Best Practices for Drug Screening for Individuals with SUD. At the end of this session\, patients will be able to: 1) Understand the recommendations for use of drug testing as a clinical tool in treating those with SUD 2) Recognize the methodology for drug testing and the differences between qualitative and quantitative urine drug testing\, while understanding the pros and cons of each. 3) Show competence in responding to positive substance use screening results with appropriate evidence-based clinical interventions and brief counseling strategies.
URL:https://sites.rutgers.edu/mat-coe/event/1-hour-ce-event-best-practices-for-drug-screening-for-individuals-with-substance-use-disorder/
END:VEVENT
END:VCALENDAR