BEGIN:VCALENDAR
VERSION:2.0
PRODID:-//Northern New Jersey MAT Center of Excellence - ECPv6.7.0//NONSGML v1.0//EN
CALSCALE:GREGORIAN
METHOD:PUBLISH
X-ORIGINAL-URL:https://sites.rutgers.edu/mat-coe
X-WR-CALDESC:Events for Northern New Jersey MAT Center of Excellence
REFRESH-INTERVAL;VALUE=DURATION:PT1H
X-Robots-Tag:noindex
X-PUBLISHED-TTL:PT1H
BEGIN:VTIMEZONE
TZID:UTC
BEGIN:STANDARD
TZOFFSETFROM:+0000
TZOFFSETTO:+0000
TZNAME:UTC
DTSTART:20210101T000000
END:STANDARD
END:VTIMEZONE
BEGIN:VEVENT
DTSTART;TZID=UTC:20211001T120000
DTEND;TZID=UTC:20211001T130000
DTSTAMP:20260425T015324
CREATED:20210921T152022Z
LAST-MODIFIED:20210921T152022Z
UID:1627-1633089600-1633093200@sites.rutgers.edu
SUMMARY:Project ECHO: Pain Management in Patients with OUD
DESCRIPTION:Project ECHO is straight-forward\, specific and applicable. At every live session we explore active patient challenges from multiple perspectives. We each hold a piece of the puzzle and everyone is welcome to share experiences. You’ll meet practitioners from across the state through a simple video interface and become part of a collegial community. You’ll have a comfortable place to return and will build on what you’re learning\, month to month. \nIn this forum\, Clement Chen\, PharmD\, will be discussing how to safely manage pain for patients with opioid use disorder.
URL:https://sites.rutgers.edu/mat-coe/event/project-echo-pain-management-in-patients-with-oud/
LOCATION:Virtual
END:VEVENT
END:VCALENDAR