BEGIN:VCALENDAR
VERSION:2.0
PRODID:-//Northern New Jersey MAT Center of Excellence - ECPv6.7.0//NONSGML v1.0//EN
CALSCALE:GREGORIAN
METHOD:PUBLISH
X-ORIGINAL-URL:https://sites.rutgers.edu/mat-coe
X-WR-CALDESC:Events for Northern New Jersey MAT Center of Excellence
REFRESH-INTERVAL;VALUE=DURATION:PT1H
X-Robots-Tag:noindex
X-PUBLISHED-TTL:PT1H
BEGIN:VTIMEZONE
TZID:UTC
BEGIN:STANDARD
TZOFFSETFROM:+0000
TZOFFSETTO:+0000
TZNAME:UTC
DTSTART:20220101T000000
END:STANDARD
END:VTIMEZONE
BEGIN:VEVENT
DTSTART;TZID=UTC:20220124T130000
DTEND;TZID=UTC:20220124T140000
DTSTAMP:20260425T225132
CREATED:20220113T155519Z
LAST-MODIFIED:20220113T155519Z
UID:1817-1643029200-1643032800@sites.rutgers.edu
SUMMARY:Talking to Patients About Cannabis Use: A Psychiatrist's Perspective
DESCRIPTION:Join us on a webinar to hear about talking to patients about cannabis use from a psychiatrist’s perspective. Our ECHO session back in December discussed talking about the harms of chronic cannabis use\, especially those with high amounts of THC\, in high-risk patients who could suffer negative consequences. Dr. Zerbo from the Northern NJ MAT Center of Excellence will be leading this talk.
URL:https://sites.rutgers.edu/mat-coe/event/talking-to-patients-about-cannabis-use-a-psychiatrists-perspective/
LOCATION:Virtual
END:VEVENT
END:VCALENDAR