BEGIN:VCALENDAR
VERSION:2.0
PRODID:-//Northern New Jersey MAT Center of Excellence - ECPv6.7.0//NONSGML v1.0//EN
CALSCALE:GREGORIAN
METHOD:PUBLISH
X-ORIGINAL-URL:https://sites.rutgers.edu/mat-coe
X-WR-CALDESC:Events for Northern New Jersey MAT Center of Excellence
REFRESH-INTERVAL;VALUE=DURATION:PT1H
X-Robots-Tag:noindex
X-PUBLISHED-TTL:PT1H
BEGIN:VTIMEZONE
TZID:UTC
BEGIN:STANDARD
TZOFFSETFROM:+0000
TZOFFSETTO:+0000
TZNAME:UTC
DTSTART:20220101T000000
END:STANDARD
END:VTIMEZONE
BEGIN:VEVENT
DTSTART;TZID=UTC:20220204T120000
DTEND;TZID=UTC:20220204T130000
DTSTAMP:20260425T015331
CREATED:20210920T144152Z
LAST-MODIFIED:20220125T215654Z
UID:1612-1643976000-1643979600@sites.rutgers.edu
SUMMARY:Project ECHO: Universal Screening and Diagnosis of OUD in the Office-Based Setting
DESCRIPTION:Our SUD MAT and Continuous Quality Improvement ECHO series is scheduled to return on February 4th. The first topic will be on the Universal Screening and Diagnosis of OUD in the Office-Based Setting. \nProject ECHO is straight-forward\, specific and applicable. At every live session we explore active patient challenges from multiple perspectives. We each hold a piece of the puzzle and everyone is welcome to share experiences. You’ll meet practitioners from across the state through a simple video interface and become part of a collegial community. You’ll have a comfortable place to return and will build on what you’re learning\, month to month.
URL:https://sites.rutgers.edu/mat-coe/event/project-echo-addressing-legal-issues-in-patients-with-oud/
LOCATION:Virtual
END:VEVENT
END:VCALENDAR