BEGIN:VCALENDAR
VERSION:2.0
PRODID:-//Northern New Jersey MAT Center of Excellence - ECPv6.7.0//NONSGML v1.0//EN
CALSCALE:GREGORIAN
METHOD:PUBLISH
X-WR-CALNAME:Northern New Jersey MAT Center of Excellence
X-ORIGINAL-URL:https://sites.rutgers.edu/mat-coe
X-WR-CALDESC:Events for Northern New Jersey MAT Center of Excellence
REFRESH-INTERVAL;VALUE=DURATION:PT1H
X-Robots-Tag:noindex
X-PUBLISHED-TTL:PT1H
BEGIN:VTIMEZONE
TZID:UTC
BEGIN:STANDARD
TZOFFSETFROM:+0000
TZOFFSETTO:+0000
TZNAME:UTC
DTSTART:20220101T000000
END:STANDARD
END:VTIMEZONE
BEGIN:VEVENT
DTSTART;TZID=UTC:20220215T093000
DTEND;TZID=UTC:20220215T120000
DTSTAMP:20260424T023850
CREATED:20211227T160550Z
LAST-MODIFIED:20220207T151033Z
UID:1799-1644917400-1644926400@sites.rutgers.edu
SUMMARY:OBAT Navigator Training
DESCRIPTION:Office-based addiction treatment (OBAT) navigators play a critical role in the expansion of medications for addiction treatment (MAT) services in New Jersey. Under the New Jersey MATrx model\, OBAT navigators are integral team members in OBAT practices who are tasked with initiating and maintaining a psychosocial treatment plan (care plan) that supports patients through all phases of their treatment. \nHosted by the Camden Coalition\, this training series of six webinars focuses on foundational knowledge and actionable information for OBAT navigators such as: \n\nIntroduction to substance use disorders\, harm reduction\, trauma-informed care\, and the OBAT model\nApproaches for building relationships and putting harm reduction\, trauma-informed care\, and care-planning into practice in a clinic-based setting\nBest practices in connecting patients to behavioral health and social service resources including specific community resource identification and referral tools\n\nThe training series is free for OBAT navigators and providers/clinical support staff. If you are not an OBAT navigator or a provider but are interested in participating in the training\, please contact us. Please also note that participants are required to attend all 6 sessions in order to receive a Certificate of Completion. If you are unable to attend all of the sessions\, please contact Camden Coalition for approval before registering. \n\nFebruary 15 | 9:30 – 12:00pm ET\nFebruary 22 | 9:30 – 12:00pm ET\nMarch 1 | 9:30 – 12:00pm ET\nMarch 8 | 9:30 – 12:00pm ET\nMarch 15 | 9:30 – 12:00pm ET\nMarch 22 | 9:30 – 12:00pm ET\n\nLicense specific CEUs are available for Nurses\, Social Workers\, Pharmacists and Physicians\, and interdisciplinary continuing education credits are available for other disciplines.
URL:https://sites.rutgers.edu/mat-coe/event/obat-navigator-training/
LOCATION:Virtual
END:VEVENT
END:VCALENDAR