BEGIN:VCALENDAR
VERSION:2.0
PRODID:-//Northern New Jersey MAT Center of Excellence - ECPv6.7.0//NONSGML v1.0//EN
CALSCALE:GREGORIAN
METHOD:PUBLISH
X-WR-CALNAME:Northern New Jersey MAT Center of Excellence
X-ORIGINAL-URL:https://sites.rutgers.edu/mat-coe
X-WR-CALDESC:Events for Northern New Jersey MAT Center of Excellence
REFRESH-INTERVAL;VALUE=DURATION:PT1H
X-Robots-Tag:noindex
X-PUBLISHED-TTL:PT1H
BEGIN:VTIMEZONE
TZID:UTC
BEGIN:STANDARD
TZOFFSETFROM:+0000
TZOFFSETTO:+0000
TZNAME:UTC
DTSTART:20240101T000000
END:STANDARD
END:VTIMEZONE
BEGIN:VEVENT
DTSTART;TZID=UTC:20240913T120000
DTEND;TZID=UTC:20240913T130000
DTSTAMP:20260424T022730
CREATED:20240318T144200Z
LAST-MODIFIED:20240318T144200Z
UID:2554-1726228800-1726232400@sites.rutgers.edu
SUMMARY:MAT CQI Quality Improvement Applications: Case Study 9
DESCRIPTION:
URL:https://sites.rutgers.edu/mat-coe/event/mat-cqi-quality-improvement-applications-case-study-9/
LOCATION:Virtual
END:VEVENT
END:VCALENDAR