BEGIN:VCALENDAR
VERSION:2.0
PRODID:-//Northern New Jersey MAT Center of Excellence - ECPv6.7.0//NONSGML v1.0//EN
CALSCALE:GREGORIAN
METHOD:PUBLISH
X-WR-CALNAME:Northern New Jersey MAT Center of Excellence
X-ORIGINAL-URL:https://sites.rutgers.edu/mat-coe
X-WR-CALDESC:Events for Northern New Jersey MAT Center of Excellence
REFRESH-INTERVAL;VALUE=DURATION:PT1H
X-Robots-Tag:noindex
X-PUBLISHED-TTL:PT1H
BEGIN:VTIMEZONE
TZID:UTC
BEGIN:STANDARD
TZOFFSETFROM:+0000
TZOFFSETTO:+0000
TZNAME:UTC
DTSTART:20230101T000000
END:STANDARD
END:VTIMEZONE
BEGIN:VEVENT
DTSTART;VALUE=DATE:20230525
DTEND;VALUE=DATE:20240511
DTSTAMP:20260424T063346
CREATED:20230525T165915Z
LAST-MODIFIED:20230525T165915Z
UID:2241-1684972800-1715385599@sites.rutgers.edu
SUMMARY:The Community Pharmacist’s Role in NJ’s Naloxone 365 Program
DESCRIPTION:This course is provided by the New Jersey Pharmacists Association\, and the New Jersey Department of Human Services. FREE to pharmacists and pharmacy technicians. Registration is required to gain access to the course materials.  Credit will be awarded only after successful completion of the timed webinar\, quizzes and an evaluation. This free course is presented by our Clinical Pharmacist/Academic Detailer\, Dr. Clement Chen\, and provided by the NJ Pharmacists Association\, and the NJ DHS. Credit will be awarded only after successful completion of the timed webinar\, quizzes and an evaluation.  \nAnnual opioid overdose deaths have skyrocketed to over 100\,000 people in the United States\, much of which are due to the rapid growth of highly potent synthetic opioids such as fentanyl in the drug supply. More than ever\, strategies to curb these deaths are crucial to overcoming the opioid crisis. Naloxone\, an opioid antidote\, is a vital harm reduction tool that has significant barriers to access due to cost and stigma. The New Jersey Dept. of Human Services’ Division of Mental Health and Addiction Services implemented the NJ “Naloxone 365” program to remove barriers to this lifesaving medication by making it more accessible to individuals requesting naloxone in community pharmacies. The main objective of this program is to explain the importance of “Naloxone 365\,” so that community pharmacies are provided with the tools and information to effectively execute this program.
URL:https://sites.rutgers.edu/mat-coe/event/the-community-pharmacists-role-in-njs-naloxone-365-program/
END:VEVENT
BEGIN:VEVENT
DTSTART;TZID=UTC:20230602T120000
DTEND;TZID=UTC:20230602T130000
DTSTAMP:20260424T063346
CREATED:20230525T164944Z
LAST-MODIFIED:20230525T164944Z
UID:2225-1685707200-1685710800@sites.rutgers.edu
SUMMARY:Project ECHO: How to Address Stigma in MAT: Smoking Cessation in those with OUD
DESCRIPTION:Project ECHO is straight-forward\, specific and applicable. At every live session we explore active patient challenges from multiple perspectives. We each hold a piece of the puzzle and everyone is welcome to share experiences. You’ll meet practitioners from across the state through a simple video interface and become part of a collegial community. You’ll have a comfortable place to return and will build on what you’re learning\, month to month.
URL:https://sites.rutgers.edu/mat-coe/event/project-echo-how-to-address-stigma-in-mat-smoking-cessation-in-those-with-oud/
END:VEVENT
BEGIN:VEVENT
DTSTART;TZID=UTC:20230605T110000
DTEND;TZID=UTC:20230605T140000
DTSTAMP:20260424T063346
CREATED:20230525T204943Z
LAST-MODIFIED:20230525T204943Z
UID:2249-1685962800-1685973600@sites.rutgers.edu
SUMMARY:The Path SHE Takes: A Woman’s Journey Through Pregnancy and Recovery
DESCRIPTION:Join the first annual SHE symposium where you will hear expert speakers within the field of pregnancy and recovery explore topics about mental health\, medication assisted treatment\, harm reduction and state of New Jersey policy reviews.
URL:https://sites.rutgers.edu/mat-coe/event/the-path-she-takes-a-womans-journey-through-pregnancy-and-recovery/
END:VEVENT
BEGIN:VEVENT
DTSTART;TZID=UTC:20230609T120000
DTEND;TZID=UTC:20230609T130000
DTSTAMP:20260424T063346
CREATED:20230525T165034Z
LAST-MODIFIED:20230525T165034Z
UID:2227-1686312000-1686315600@sites.rutgers.edu
SUMMARY:Project ECHO: Synthetic Cannabinoids: Implications in SUD
DESCRIPTION:Project ECHO is straight-forward\, specific and applicable. At every live session we explore active patient challenges from multiple perspectives. We each hold a piece of the puzzle and everyone is welcome to share experiences. You’ll meet practitioners from across the state through a simple video interface and become part of a collegial community. You’ll have a comfortable place to return and will build on what you’re learning\, month to month.
URL:https://sites.rutgers.edu/mat-coe/event/project-echo-synthetic-cannabinoids-implications-in-sud/
END:VEVENT
BEGIN:VEVENT
DTSTART;TZID=UTC:20230615T090000
DTEND;TZID=UTC:20230615T153000
DTSTAMP:20260424T063346
CREATED:20230525T205411Z
LAST-MODIFIED:20230525T205411Z
UID:2251-1686819600-1686843000@sites.rutgers.edu
SUMMARY:Best Practices in Trauma Informed Overdose Prevention Conference
DESCRIPTION:Last year\, New Jersey recorded the first annual decrease in fatal drug overdoses in over a decade. This success should be celebrated\, but is only part of the story. As NJ looks to strengthen and expand the overdose prevention and recovery ecosystem\, it is critical to reflect on past successes and challenges and dive deeper into the data to ensure forward progress. Join us to better understand which communities are being disproportionately impacted and hear from leaders and changemakers in NJ and across the country that are innovating care and saving lives. \nThe National Conference Center at the Holiday Inn of East Windsor\n399 Monmouth St.\nEast Windsor\, NJ 08520
URL:https://sites.rutgers.edu/mat-coe/event/best-practices-in-trauma-informed-overdose-prevention-conference/
LOCATION:Holiday Inn East Windsor\, 399 Monmouth St\, East Windsor\, NJ\, 08520\, United States
END:VEVENT
BEGIN:VEVENT
DTSTART;TZID=UTC:20230615T120000
DTEND;TZID=UTC:20230615T130000
DTSTAMP:20260424T063346
CREATED:20221207T145112Z
LAST-MODIFIED:20221207T145112Z
UID:2158-1686830400-1686834000@sites.rutgers.edu
SUMMARY:OBAT Monthly SUD Navigation Support Calls
DESCRIPTION:In addition to Camden Coalition’s main SUD Navigator Training\, they are offering monthly resource calls and skills labs to provide ongoing opportunity for OBAT navigators and other SUD navigators / case managers to continue learning through: \n– Hour long deep dive of particular content areas;\n– Discussion of (de-identified) patient cases and support thinking through patient engagement strategies\, potential resources\, and how to practice self-care while doing this work;\n– Presentations and sharing updated resources about relevant topics such as harm reduction\, strategies for identifying new community resources\, telephonic engagement during the COVID-19 pandemic\, and more.
URL:https://sites.rutgers.edu/mat-coe/event/obat-monthly-sud-navigation-support-calls-7/
LOCATION:Virtual
END:VEVENT
BEGIN:VEVENT
DTSTART;TZID=UTC:20230622T110000
DTEND;TZID=UTC:20230622T130000
DTSTAMP:20260424T063346
CREATED:20230525T170236Z
LAST-MODIFIED:20230525T204659Z
UID:2243-1687431600-1687438800@sites.rutgers.edu
SUMMARY:NJ Opioid Recovery & Remediation Fund Advisory Council
DESCRIPTION:ESSEX County College\nClara E. Dasher Student Center\n303 University Avenue\, Newark\, NJ \nIn addition to the input already received through the online portal\, The New Jersey Opioid Recovery and Remediation Fund Advisory Council is holding listening sessions to gather public input on distributing opioid settlement funds. New Jersey will receive at least $641 million over 18 years as part of a federal opioid settlement. The state will receive half of the funding\, and the other half will be provided to participating county and local governments.
URL:https://sites.rutgers.edu/mat-coe/event/nj-opioid-recovery-remediation-fund-advisory-council/
LOCATION:ECC Newark\, 303 University Avenue\, Newark
END:VEVENT
BEGIN:VEVENT
DTSTART;TZID=UTC:20230628T120000
DTEND;TZID=UTC:20230628T130000
DTSTAMP:20260424T063346
CREATED:20230605T141302Z
LAST-MODIFIED:20230605T141302Z
UID:2257-1687953600-1687957200@sites.rutgers.edu
SUMMARY:MAT Lunch Hour: Topic TBD
DESCRIPTION:Co-hosted with Camden Coalition\, the medications for addiction treatment (MAT) lunch hours are hour-long virtual meetings to hear from experts and discuss the latest in clinical and non-clinical issues affecting the MAT patient population. Providers\, OBAT navigators\, peers\, advocates\, and other stakeholders working in New Jersey’s substance use disorder field are welcome to attend. If you have questions or would like more information\, contact Shelby Kehoe\, Program Manager for Policy & Advocacy\, at skehoe@camdenhealth.org. \nMAT Lunch Hours are held every other month on third Wednesdays at 12 pm ET:
URL:https://sites.rutgers.edu/mat-coe/event/mat-lunch-hour-topic-tbd-12/
LOCATION:Virtual
END:VEVENT
END:VCALENDAR