BEGIN:VCALENDAR
VERSION:2.0
PRODID:-//Northern New Jersey MAT Center of Excellence - ECPv6.7.0//NONSGML v1.0//EN
CALSCALE:GREGORIAN
METHOD:PUBLISH
X-WR-CALNAME:Northern New Jersey MAT Center of Excellence
X-ORIGINAL-URL:https://sites.rutgers.edu/mat-coe
X-WR-CALDESC:Events for Northern New Jersey MAT Center of Excellence
REFRESH-INTERVAL;VALUE=DURATION:PT1H
X-Robots-Tag:noindex
X-PUBLISHED-TTL:PT1H
BEGIN:VTIMEZONE
TZID:UTC
BEGIN:STANDARD
TZOFFSETFROM:+0000
TZOFFSETTO:+0000
TZNAME:UTC
DTSTART:20250101T000000
END:STANDARD
END:VTIMEZONE
BEGIN:VEVENT
DTSTART;TZID=UTC:20250314T120000
DTEND;TZID=UTC:20250314T133000
DTSTAMP:20260424T093435
CREATED:20241210T151316Z
LAST-MODIFIED:20241210T151316Z
UID:2701-1741953600-1741959000@sites.rutgers.edu
SUMMARY:Overdose Education and Naloxone Distribution/New Jersey Harm Reduction Coalition
DESCRIPTION:Learn to identify the signs of an opioid overdose\, administer naloxone\, discover New Jersey’s Good Samaritan and naloxone laws and know your rights.
URL:https://sites.rutgers.edu/mat-coe/event/overdose-education-and-naloxone-distribution-new-jersey-harm-reduction-coalition-3/
LOCATION:Virtual
END:VEVENT
BEGIN:VEVENT
DTSTART;TZID=UTC:20250328T080000
DTEND;TZID=UTC:20250328T150000
DTSTAMP:20260424T093435
CREATED:20241210T145622Z
LAST-MODIFIED:20241210T145622Z
UID:2693-1743148800-1743174000@sites.rutgers.edu
SUMMARY:Urban Mental Health 12th Annual Conference
DESCRIPTION:Innovative Approaches and Emerging Therapies in alcohol\, opioids\, social media\, stimulants\, tobacco\, vaping\, cannabis \nRegistration Opens 1/15/2025
URL:https://sites.rutgers.edu/mat-coe/event/urban-mental-health-12th-annual-conference/
ORGANIZER;CN="Rutgers University":MAILTO:rich@sese.io
END:VEVENT
END:VCALENDAR