BEGIN:VCALENDAR
VERSION:2.0
PRODID:-//Jazz Studies - ECPv6.7.0//NONSGML v1.0//EN
CALSCALE:GREGORIAN
METHOD:PUBLISH
X-WR-CALNAME:Jazz Studies
X-ORIGINAL-URL:https://sites.rutgers.edu/mgsa-jazz
X-WR-CALDESC:Events for Jazz Studies
REFRESH-INTERVAL;VALUE=DURATION:PT1H
X-Robots-Tag:noindex
X-PUBLISHED-TTL:PT1H
BEGIN:VTIMEZONE
TZID:UTC
BEGIN:STANDARD
TZOFFSETFROM:+0000
TZOFFSETTO:+0000
TZNAME:UTC
DTSTART:20260101T000000
END:STANDARD
END:VTIMEZONE
BEGIN:VEVENT
DTSTART;TZID=UTC:20260412T130000
DTEND;TZID=UTC:20260412T160000
DTSTAMP:20260420T082918
CREATED:20250220T154533Z
LAST-MODIFIED:20260106T153226Z
UID:3013-1775998800-1776009600@sites.rutgers.edu
SUMMARY:Senior Recitals
DESCRIPTION:Sun 4/12/26\, Shindell Hall\n(Ameen\, Davis\, Stasio)\n1:00pm – Logan Bogdan\, Drums\n2:00pm – Alexander Ayala-Berrios\, Bass\n3:00pm – Ivanna Cuesta Gonzalez\, Drums
URL:https://sites.rutgers.edu/mgsa-jazz/event/senior-recitals/
LOCATION:Shindell Hall\, 85 George Street\, New Brunswick\, NJ\, 08901\, United States
CATEGORIES:Recital
END:VEVENT
BEGIN:VEVENT
DTSTART;TZID=UTC:20260329T130000
DTEND;TZID=UTC:20260329T170000
DTSTAMP:20260420T082918
CREATED:20250220T154631Z
LAST-MODIFIED:20260106T152849Z
UID:3016-1774789200-1774803600@sites.rutgers.edu
SUMMARY:Senior Recitals
DESCRIPTION:Sun 3/29/26\, Shindell Hall\n(Bowen\, Burton\, Stryker)\n1:00pm – Kristin Field\, Sax-Alto\n2:00pm – Christos Kokolis\, Guitar\n3:00pm – Edward Crisonino\, Sax-Tenor\n4:00pm – Michael Price\, Sax-Alto
URL:https://sites.rutgers.edu/mgsa-jazz/event/senior-recitals-2/
LOCATION:Shindell Hall\, 85 George Street\, New Brunswick\, NJ\, 08901\, United States
CATEGORIES:Recital
END:VEVENT
BEGIN:VEVENT
DTSTART;VALUE=DATE:20260314
DTEND;VALUE=DATE:20260323
DTSTAMP:20260420T082918
CREATED:20220111T153500Z
LAST-MODIFIED:20260106T153552Z
UID:2278-1773446400-1774223999@sites.rutgers.edu
SUMMARY:Spring Break
DESCRIPTION:
URL:https://sites.rutgers.edu/mgsa-jazz/event/spring-break/
LOCATION:NJ
CATEGORIES:Special Event
END:VEVENT
BEGIN:VEVENT
DTSTART;TZID=UTC:20260306T193000
DTEND;TZID=UTC:20260306T210000
DTSTAMP:20260420T082918
CREATED:20200114T200350Z
LAST-MODIFIED:20260106T151427Z
UID:723-1772825400-1772830800@sites.rutgers.edu
SUMMARY:JE1 Concert
DESCRIPTION:
URL:https://sites.rutgers.edu/mgsa-jazz/event/je1-concert1/
LOCATION:NMC\, 85 George Street\, New Brunswick\, NJ\, 08901\, United States
CATEGORIES:Concert,Performance,Special Event
END:VEVENT
BEGIN:VEVENT
DTSTART;TZID=UTC:20260304T193000
DTEND;TZID=UTC:20260304T210000
DTSTAMP:20260420T082918
CREATED:20200114T200458Z
LAST-MODIFIED:20260106T151508Z
UID:726-1772652600-1772658000@sites.rutgers.edu
SUMMARY:Mingus Big Band Concert
DESCRIPTION:
URL:https://sites.rutgers.edu/mgsa-jazz/event/je2-1/
LOCATION:NMC\, 85 George Street\, New Brunswick\, NJ\, 08901\, United States
CATEGORIES:Concert,Performance
END:VEVENT
BEGIN:VEVENT
DTSTART;VALUE=DATE:20260129
DTEND;VALUE=DATE:20260130
DTSTAMP:20260420T082918
CREATED:20200114T201905Z
LAST-MODIFIED:20260106T151107Z
UID:738-1769644800-1769731199@sites.rutgers.edu
SUMMARY:Drop/Add Period Ends
DESCRIPTION:Deadline to submit all Course registrations before the Drop/Add period cutoff. \nRefer to Semester Startup page for more details\, here
URL:https://sites.rutgers.edu/mgsa-jazz/event/deadline-ensemble-course-registrations/
LOCATION:NJ
CATEGORIES:Deadline
END:VEVENT
BEGIN:VEVENT
DTSTART;TZID=UTC:20260121T140000
DTEND;TZID=UTC:20260121T171000
DTSTAMP:20260420T082918
CREATED:20200114T193416Z
LAST-MODIFIED:20260106T151019Z
UID:701-1769004000-1769015400@sites.rutgers.edu
SUMMARY:Jazz Orientation & Placement Auditions
DESCRIPTION:Refer to Semester Startup page for more details\, here
URL:https://sites.rutgers.edu/mgsa-jazz/event/jazz-orientation/
LOCATION:RHL104\, 85 George Street\, New Brunswick\, NJ\, 08901\, United States
CATEGORIES:Auditions,Orientation
END:VEVENT
BEGIN:VEVENT
DTSTART;TZID=UTC:20260120T235900
DTEND;TZID=UTC:20260120T235900
DTSTAMP:20260420T082918
CREATED:20200905T235900Z
LAST-MODIFIED:20260106T150956Z
UID:732-1768953540-1768953540@sites.rutgers.edu
SUMMARY:DEADLINE: Ensemble Scheduling Form Submission
DESCRIPTION:Deadline to submit a Jazz Ensemble Scheduling form \nRefer to Semester Startup page for more details\, here \n 
URL:https://sites.rutgers.edu/mgsa-jazz/event/deadline-ensemble-scheduling-form/
LOCATION:Online
CATEGORIES:Deadline
END:VEVENT
END:VCALENDAR