BEGIN:VCALENDAR
VERSION:2.0
PRODID:-//Jazz Studies - ECPv6.7.0//NONSGML v1.0//EN
CALSCALE:GREGORIAN
METHOD:PUBLISH
X-ORIGINAL-URL:https://sites.rutgers.edu/mgsa-jazz
X-WR-CALDESC:Events for Jazz Studies
REFRESH-INTERVAL;VALUE=DURATION:PT1H
X-Robots-Tag:noindex
X-PUBLISHED-TTL:PT1H
BEGIN:VTIMEZONE
TZID:UTC
BEGIN:STANDARD
TZOFFSETFROM:+0000
TZOFFSETTO:+0000
TZNAME:UTC
DTSTART:20260101T000000
END:STANDARD
END:VTIMEZONE
BEGIN:VEVENT
DTSTART;TZID=UTC:20260422T193000
DTEND;TZID=UTC:20260422T210000
DTSTAMP:20260418T170040
CREATED:20200114T200645Z
LAST-MODIFIED:20260331T211303Z
UID:730-1776886200-1776891600@sites.rutgers.edu
SUMMARY:Mingus Big Band Concert
DESCRIPTION:
URL:https://sites.rutgers.edu/mgsa-jazz/event/je2-2/
LOCATION:NBPAC\, 11 Livingston Ave\, New Brunswick\, NJ\, 08901\, United States
CATEGORIES:Concert,Performance
END:VEVENT
BEGIN:VEVENT
DTSTART;TZID=UTC:20260424T193000
DTEND;TZID=UTC:20260424T210000
DTSTAMP:20260418T170040
CREATED:20200114T200552Z
LAST-MODIFIED:20260106T151649Z
UID:728-1777059000-1777064400@sites.rutgers.edu
SUMMARY:JE1 Concert
DESCRIPTION:
URL:https://sites.rutgers.edu/mgsa-jazz/event/je1-concert2/
LOCATION:NBPAC\, 11 Livingston Ave\, New Brunswick\, NJ\, 08901\, United States
CATEGORIES:Concert,Performance
END:VEVENT
BEGIN:VEVENT
DTSTART;TZID=UTC:20260428T193000
DTEND;TZID=UTC:20260428T213000
DTSTAMP:20260418T170040
CREATED:20200827T173451Z
LAST-MODIFIED:20260312T151047Z
UID:1618-1777404600-1777411800@sites.rutgers.edu
SUMMARY:Themed and Chamber Jazz Recital #1
DESCRIPTION:Tue\, Apr 28\, 7:30-9:30pm\, Shindell\n\nCh Jazz 3 – Branker\nAvant Garde Ens – Branker\nContemporary Jazz Ens – Davis\nCh Jazz 2 – Davis
URL:https://sites.rutgers.edu/mgsa-jazz/event/themed-and-chamber-jazz-recital1/
LOCATION:Shindell Hall\, 85 George Street\, New Brunswick\, NJ\, 08901\, United States
CATEGORIES:Recital
END:VEVENT
BEGIN:VEVENT
DTSTART;TZID=UTC:20260504T193000
DTEND;TZID=UTC:20260504T213000
DTSTAMP:20260418T170040
CREATED:20220111T152050Z
LAST-MODIFIED:20260413T215136Z
UID:2264-1777923000-1777930200@sites.rutgers.edu
SUMMARY:Themed and Chamber Jazz Recital #2
DESCRIPTION:Mon\, May 4\, 7:30-9:30pm\, Shindell\n\nJazz Guitar Ens – Stryker\nAWJE – Ameen\nWR – Ameen
URL:https://sites.rutgers.edu/mgsa-jazz/event/themed-and-chamber-jazz-recital2/
LOCATION:Shindell Hall\, 85 George Street\, New Brunswick\, NJ\, 08901\, United States
CATEGORIES:Recital
END:VEVENT
BEGIN:VEVENT
DTSTART;TZID=UTC:20260511T090000
DTEND;TZID=UTC:20260511T170000
DTSTAMP:20260418T170040
CREATED:20200114T195636Z
LAST-MODIFIED:20260331T215301Z
UID:718-1778490000-1778518800@sites.rutgers.edu
SUMMARY:Jazz Juries (single day)
DESCRIPTION:  \n 
URL:https://sites.rutgers.edu/mgsa-jazz/event/jazz-jury1/
LOCATION:TBA
CATEGORIES:Jazz Jury
END:VEVENT
END:VCALENDAR