BEGIN:VCALENDAR
VERSION:2.0
PRODID:-//Nawaf Bou-Rabee - ECPv6.7.0//NONSGML v1.0//EN
CALSCALE:GREGORIAN
METHOD:PUBLISH
X-WR-CALNAME:Nawaf Bou-Rabee
X-ORIGINAL-URL:https://sites.rutgers.edu/nawaf-bou-rabee
X-WR-CALDESC:Events for Nawaf Bou-Rabee
REFRESH-INTERVAL;VALUE=DURATION:PT1H
X-Robots-Tag:noindex
X-PUBLISHED-TTL:PT1H
BEGIN:VTIMEZONE
TZID:UTC
BEGIN:STANDARD
TZOFFSETFROM:+0000
TZOFFSETTO:+0000
TZNAME:UTC
DTSTART:20230101T000000
END:STANDARD
END:VTIMEZONE
BEGIN:VEVENT
DTSTART;VALUE=DATE:20230626
DTEND;VALUE=DATE:20230701
DTSTAMP:20260422T181411
CREATED:20230422T121706Z
LAST-MODIFIED:20230422T121706Z
UID:471-1687737600-1688169599@sites.rutgers.edu
SUMMARY:14th International Conference on Monte Carlo Methods and Applications
DESCRIPTION:Minisymposium “PDMPs for high dimensional sampling: theory and application”
URL:https://sites.rutgers.edu/nawaf-bou-rabee/event/14th-international-conference-on-monte-carlo-methods-and-applications/
LOCATION:Sorbonne Université Campus Pierre et Marie Curie\, 4 PI. Iussieu\, Paris\, 75005\, France
END:VEVENT
END:VCALENDAR